Workbook

Sheet Capa

Sheet Menu
C3: Guia de Fundos Listados | S3: Bloomberg
S4: XP Est.
C158: C

Sheet Chartbook
B4: ="Data Ref: "&TEXT(TODAY(),"dd/mm/aaaa") -> Data Ref: 18/09/2026 | C4: Fonte: B3, Economatica e XP Investimentos
B6: IFIX | G6: Escritórios | L6: Ativos Logísticos | Q6: Shopping Centers | V6: Recebíveis | AA6: Fundo de Fundos | AF6: Outros
B8: IFIX - Performance 12M | G8: IFIX - P/VPA | L8: IFIX - Dividend Yield
B26: Escritórios - P/VPA | G26: Escritórios - Dividend Yield | L26: Escritórios - Yield vs. P/VPA
B44: Galpões - P/VPA | G44: Galpões - Dividend Yield | L44: Galpões - Yield vs. P/VPA
B62: Shopping Centers - P/VPA | G62: Shopping Centers - Dividend Yield | L62: Shopping Centers - Yield vs. P/VPA
B80: Recebíveis - P/VPA | G80: Recebíveis - Dividend Yield | L80: Recebíveis - Yield vs. P/VPA
B98: FoF - P/VPA | G98: FoF - Dividend Yield | L98: FoF - Yield vs. P/VPA
B116: Outros - P/VPA | G116: Outros - Dividend Yield | L116: Outros - Yield vs. P/VPA
B134: Fiagros - P/VPA | G134: Fiagros - Dividend Yield | L134: Fiagros - Yield vs. P/VPA

Sheet Guia de FIIs
B5: Dados Cadastrais | J5: Informações Financeiras | S5: Valuation | Y5: Performance
B6: Código | C6: Nome | D6: Segmento | E6: Administrador | F6: Gestor | G6: Tx de Adm | H6: Tx de Performance | J6: Preço (R$/cota) | K6: Cota Patrimonial (R$/cota) | L6: Valor de Mercado (R$mil) | M6: Valor Patrimonial (R$mil) | N6: Volume Diário (R$mil/dia) | O6: # cotas | P6: IFIX | Q6: % IFIX | S6: P/VP | T6: DPS 12M (R$/cota) | U6: Último Dividendo (R$/cota/mês) | V6: Div Yield 12M | W6: Div Yield Anualizado | Y6: No Mês | Z6: No Ano | AA6: Últimos doze meses
B7: TVRI11 | C7: Tivio Renda Imobiliária | D7: Agências | E7: Votorantim | F7: Votorantim | G7: 0.00277 | H7: - | J7: 87.1 | K7: 100.60294 | L7: 1386605 | M7: 1601567.7 | N7: 932.1127 | O7: 15919.69 | P7: 1 | Q7: 0.00931 | S7: 0.86577982 | T7: 12.6 | U7: 1.05 | V7: 0.13589301 | W7: 0.14466131 | Y7: -0.0085372795 | Z7: -0.043337597 | AA7: 0.072069608
B8: BBRC11 | C8: BB Renda Corporativa | D8: Agências | E8: Votorantim | F8: - | G8: 0.006 | H8: - | J8: 102.5 | K8: 104.04259 | L8: 162975 | M8: 165427.72 | N8: 78.894648 | O8: 1590 | P8: 0 | Q8: - | S8: 0.98517345 | T8: 14.75 | U8: 1.05 | V8: 0.14868952 | W8: 0.12292683 | Y8: 0.014248961 | Z8: 0.11348928 | AA8: 0.19378049
B9: BTAL11 | C9: BTG Pactual Agro Logística | D9: Agronegócio | E9: BTG Pactual | F9: BTG | G9: 0.011 | H9: - | J9: 84.57 | K9: 117.03654 | L9: 505959.98 | M9: 700198.71 | N9: 556.26855 | O9: 5982.736 | P9: 0 | Q9: - | S9: 0.72259486 | T9: 10.8 | U9: 1 | V9: 0.13505064 | W9: 0.14189429 | Y9: 0.057521571 | Z9: 0.10108365 | AA9: 0.19839662
B10: HGLG11 | C10: Patria Logística | D10: Ativos Logísticos | E10: Patria | F10: Patria | G10: 0.006 | H10: - | J10: 147.98 | K10: 166.08918 | L10: 6745344.4 | M10: 7570811.7 | N10: 21252.419 | O10: 45582.811 | P10: 1 | Q10: 0.04538 | S10: 0.89096713 | T10: 13.34 | U10: 1.17 | V10: 0.08403679 | W10: 0.094877686 | Y10: 0.0055038391 | Z10: 0.0027121892 | AA10: 0.015942349
B11: BTLG11 | C11: BTG Logística | D11: Ativos Logísticos | E11: BTG Pactual | F11: BTG | G11: 0.009 | H11: - | J11: 101.2 | K11: 106.68579 | L11: 7179154.4 | M11: 7568317.6 | N11: 18813.365 | O11: 70940.261 | P11: 1 | Q11: 0.04761 | S11: 0.94857996 | T11: 9.62 | U11: 0.81 | V11: 0.093798752 | W11: 0.096047431 | Y11: 0.029504763 | Z11: 0.060837911 | AA11: 0.086465572
B12: LVBI11 | C12: VBI Log FII | D12: Ativos Logísticos | E12: BTG Pactual | F12: VBI | G12: 0.013 | H12: - | J12: 97 | K12: 120.98904 | L12: 1563500.8 | M12: 1950169.7 | N12: 3875.9477 | O12: 16118.565 | P12: 1 | Q12: 0.01057 | S12: 0.8017255 | T12: 9.05 | U12: 0.8 | V12: 0.084240901 | W12: 0.098969072 | Y12: -0.016825461 | Z12: -0.079110052 | AA12: -0.017628295
B13: GGRC11 | C13: GGR Covepi Renda | D13: Ativos Logísticos | E13: CM Capital Markets | F13: GGR | G13: 0.011 | H13: - | J13: 9 | K13: 10.927129 | L13: 3111385.1 | M13: 3777611.9 | N13: 15794.291 | O13: 345709.46 | P13: 1 | Q13: 0.02116 | S13: 0.82363811 | T13: 1.2 | U13: 0.1 | V13: 0.12145749 | W13: 0.13333333 | Y13: -0.0034062323 | Z13: -0.0047315329 | AA13: 0.027799966
B14: TRBL11 | C14: Tellus Rio Bravo Renda Logística | D14: Ativos Logísticos | E14: Rio Bravo | F14: Tellus e SDI Gestão | G14: 0.0084 | H14: - | J14: 51.8 | K14: 76.647416 | L14: 400884.97 | M14: 593181.4 | N14: 1304.5594 | O14: 7739.092 | P14: 1 | Q14: 0.00258 | S14: 0.67582187 | T14: 9.84 | U14: 0.44 | V14: 0.15643879 | W14: 0.1019305 | Y14: 0.047310958 | Z14: -0.15291534 | AA14: -0.042919388
B15: FIIB11 | C15: Industrial do Brasil | D15: Ativos Logísticos | E15: Coinvalores | F15: Coinvalores | G15: 0.0036 | H15: - | J15: 421.63 | K15: 593.63585 | L15: 288816.55 | M15: 406640.56 | N15: 231.29597 | O15: #N/A | P15: 0 | Q15: - | S15: 0.71025023 | T15: 36.81 | U15: 2.75 | V15: 0.07260355 | W15: 0.078267675 | Y15: 0.010497304 | Z15: -0.06821205 | AA15: -0.10023511
B16: TRUE11 | C16: Ourinvest Logística | D16: Ativos Logísticos | E16: Banco Ourinvest | F16: Ourinvest Asset | G16: 0.01 | H16: - | J16: 23.51 | K16: 27.440524 | L16: 58025.007 | M16: 67725.93 | N16: 24.461192 | O16: 2468.099 | P16: 0 | Q16: - | S16: 0.85676206 | T16: 0 | U16: 0 | V16: 0 | W16: 0 | Y16: -0.0596 | Z16: -0.020416667 | AA16: -0.0044859798
B17: VILG11 | C17: Vinci Logística | D17: Ativos Logísticos | E17: BRL Trust | F17: Vinci | G17: 0.0095 | H17: 20% (vinte por cento) da soma dos rendimentos efetivamente distribuídos no período que excederem a rentabilidade do IPCA/IBGE, acrescido de um spread de 6% (seis por cento) sobre o valor total integralizado de Cotas do Fundo | J17: 90.02 | K17: 108.68617 | L17: 1350065.6 | M17: 1630009.5 | N17: 2370.3773 | O17: 14997.396 | P17: 1 | Q17: 0.00922 | S17: 0.82825625 | T17: 9.44 | U17: 0.82 | V17: 0.10795974 | W17: 0.10930904 | Y17: -0.041524702 | Z17: -0.025251055 | AA17: 0.13576247
B18: BRCO11 | C18: Bresco Logística | D18: Ativos Logísticos | E18: Oliveira Trust | F18: Bresco Gestão | G18: 0.01 | H18: 20% do que exceder 6% sobre o valor das emissões atualizados por IPCA | J18: 110.22 | K18: 114.75943 | L18: 1986308 | M18: 2068114.4 | N18: 5826.3943 | O18: 18021.303 | P18: 1 | Q18: 0.01333 | S18: 0.96044396 | T18: 10.96 | U18: 0.91 | V18: 0.097318416 | W18: 0.099074578 | Y18: -0.024946921 | Z18: 0.0041924368 | AA18: 0.075020912
B19: XPLG11 | C19: FII XP Log | D19: Ativos Logísticos | E19: Vórtx DTVM | F19: XP Vista | G19: 0.0085 | H19: 20% do que exceder IPCA + 6% | J19: 92.99 | K19: 104.64623 | L19: 4778765.2 | M19: 5377779.9 | N19: 9607.7068 | O19: 51390.098 | P19: 1 | Q19: 0.0318 | S19: 0.88861302 | T19: 9.84 | U19: 0.82 | V19: 0.097774245 | W19: 0.10581783 | Y19: 0.022767268 | Z19: -0.052658094 | AA19: 0.020408406
B20: HLOG11 | C20: Hedge Logística | D20: Ativos Logísticos | E20: Hedge | F20: Hedge | G20: 0.008 | H20: - | J20: 9.25 | K20: 11.850098 | L20: 393125 | M20: 503629.16 | N20: 50.461998 | O20: #N/A | P20: 0 | Q20: - | S20: 0.78058426 | T20: 0.949 | U20: 0.072 | V20: 0.1093318 | W20: 0.093405405 | Y20: -0.0083619211 | Z20: 0.083372029 | AA20: 0.18171559
B21: NEWL11 | C21: Newport Logísitca | D21: Ativos Logísticos | E21: Brasil Plural | F21: Newport Real Estate | G21: 0.0095 | H21: 20 % a.a do que exceder 5% +IPCA | J21: 105.97 | K21: 131.77527 | L21: 297796.15 | M21: 370313.93 | N21: 675.35026 | O21: #N/A | P21: 0 | Q21: - | S21: 0.80417216 | T21: 11.93 | U21: 1 | V21: 0.11430488 | W21: 0.1132396 | Y21: 0.018942308 | Z21: 0.0019632619 | AA21: 0.13359281
B22: RBRL11 | C22: RBR Logística | D22: Ativos Logísticos | E22: BRL Trust | F22: RBR Asset | G22: 0.0118 | H22: 20% > IPCA + Yield IMA-B5 | J22: 76.76 | K22: 93.378293 | L22: 513296.81 | M22: 624423.92 | N22: 1628.8579 | O22: 6687.035 | P22: 1 | Q22: 0.00342 | S22: 0.82203259 | T22: 8.25 | U22: 0.6 | V22: 0.098331347 | W22: 0.093798854 | Y22: 0.06759388 | Z22: -0.10795916 | AA22: 0.0097257968
B23: BLMG11 | C23: Bluemacaw Logística | D23: Ativos Logísticos | E23: Vórtx DTVM | F23: Bluemacaw | G23: 0.0095 | H23: 20% do que exceder IPCA + 6% | J23: 30.51 | K23: 45.717692 | L23: 142573.23 | M23: 213638.78 | N23: 131.61297 | O23: 4673 | P23: 0 | Q23: - | S23: 0.66735652 | T23: 4.6859 | U23: 0.39 | V23: 0.13859509 | W23: 0.15339233 | Y23: -0.052404306 | Z23: -0.020059357 | AA23: 0.040077655
B24: HSLG11 | C24: HSI Log | D24: Ativos Logísticos | E24: BRL Trust | F24: HSI | G24: 0.0085 | H24: 20% do que exceder IPCA + 6% | J24: 78.71 | K24: 110.03814 | L24: 996473.87 | M24: 1393090.3 | N24: 1155.7188 | O24: 12660.067 | P24: 1 | Q24: 0.00674 | S24: 0.71529741 | T24: 8.69 | U24: 0.75 | V24: 0.10186379 | W24: 0.11434379 | Y24: 0.0057500639 | Z24: -0.081703825 | AA24: 0.016852277
B25: RZAT11 | C25: Riza Arctium Real Estate | D25: Ativos Logísticos | E25: BTG Pactual | F25: Riza Gestão de Recursos | G25: 0.01 | H25: 20% acima de IPCA + 5% | J25: 87.23 | K25: 101.55468 | L25: 369422.71 | M25: 430088.33 | N25: 519.93905 | O25: 4235.042 | P25: 1 | Q25: 0.00249 | S25: 0.85894614 | T25: 14.05 | U25: 1 | V25: 0.15588594 | W25: 0.13756735 | Y25: -0.035306178 | Z25: 0.1149178 | AA25: 0.12740263
B26: FCFL11 | C26: Campus Faria Lima | D26: Educacional | E26: BTG Pactual | F26: - | G26: 0.003 | H26: - | J26: 123.83 | K26: 125.6583 | L26: 430186.66 | M26: 436538.17 | N26: 141.77757 | O26: 3474.01 | P26: 0 | Q26: - | S26: 0.98545026 | T26: 11.057915 | U26: 0.93 | V26: 0.087998687 | W26: 0.090123556 | Y26: 0.025082781 | Z26: 0.043371865 | AA26: 0.077031912
B27: KFOF11 | C27: Kinea FoF | D27: Fundo de Fundos | E27: Intrag DTVM | F27: Kinea Investimentos | G27: 0.0092 | H27: 20% do que exceder a variação do IFIX | J27: 77.22 | K27: 87.095044 | L27: 541664.71 | M27: 610933.84 | N27: 942.48593 | O27: 7014.565 | P27: 1 | Q27: 0.00366 | S27: 0.88661762 | T27: 9.6 | U27: 0.8 | V27: 0.11725907 | W27: 0.12432012 | Y27: 0.0063860289 | Z27: -0.032280172 | AA27: 0.060438531
B28: BCIA11 | C28: Bradesco Carteira Imobiliária Ativa | D28: Fundo de Fundos | E28: Bradesco | F28: Bradesco | G28: 0.005 | H28: 20% sobre o que exceder o IFIX | J28: 87.89 | K28: 96.342492 | L28: 326866.25 | M28: 358301.39 | N28: 204.15126 | O28: 3719.038 | P28: 0 | Q28: - | S28: 0.91226621 | T28: 10.41 | U28: 0.86 | V28: 0.12104651 | W28: 0.1174195 | Y28: -0.0045305244 | Z28: 0.078168658 | AA28: 0.14713885
B29: HFOF11 | C29: Hedge TOP FOF III | D29: Fundo de Fundos | E29: Hedge | F29: Hedge Investments | G29: 0.006 | H29: 20% sobre o que exceder o IFIX - Semestral | J29: 6.29 | K29: 7.5554098 | L29: 1370150.7 | M29: 1645794.9 | N29: 1633.25 | O29: 217830 | P29: 1 | Q29: 0.00957 | S29: 0.83251606 | T29: 0.704 | U29: 0.06 | V29: 0.11578947 | W29: 0.11446741 | Y29: -0.0063191153 | Z29: 0.027894898 | AA29: 0.1516624
B30: XPSF11 | C30: XP Selection FoF | D30: Fundo de Fundos | E30: Vortx | F30: XP Vista | G30: 0.01 | H30: 20% do que exceder o IFIX | J30: 6.39 | K30: 7.5239962 | L30: 276700.67 | M30: 325805.14 | N30: 1148.2595 | O30: 43302.14 | P30: 1 | Q30: 0.00187 | S30: 0.84928273 | T30: 0.83 | U30: 0.07 | V30: 0.13070866 | W30: 0.1314554 | Y30: -0.0031201248 | Z30: 0.069045239 | AA30: 0.14371229
B31: RBFM11 | C31: Rio Bravo IFIX FII | D31: Fundo de Fundos | E31: BRL Trust | F31: Rio Bravo | G31: 0.008 | H31: 20% do que exceder o IFIX | J31: 9.87 | K31: 12.149554 | L31: 185023.76 | M31: 227756.46 | N31: 320.81022 | O31: #N/A | P31: 0 | Q31: - | S31: 0.81237548 | T31: 1.372 | U31: 0.108 | V31: 0.13649025 | W31: 0.13130699 | Y31: 0.0028449502 | Z31: 0.0079257414 | AA31: 0.11921373
B32: PSEC11 | D32: Fundo de Fundos | E32: BRL Trust | F32: VBI Real Estate | G32: 0.01 | H32: 20% do que exceder o IFIX | J32: 51.65 | K32: 70.305276 | L32: 950327.87 | M32: 1293573.3 | N32: 1561.9186 | O32: 18399.378 | P32: 1 | Q32: 0.00644 | S32: 0.73465326 | T32: 7.5 | U32: 0.6 | V32: 0.11727912 | W32: 0.13939981 | Y32: 0.015667993 | Z32: -0.12174382 | AA32: -0.083623839
B33: JSAF11 | C33: JS Ativos Financeiros | D33: Fundo de Fundos | E33: Banco Safra | F33: Safra Asset | G33: 0.01 | H33: 20% do que exceder IPCA + IMA-B | J33: 7.01 | K33: 8.84849 | L33: 543438.26 | M33: 685964.06 | N33: 1518.3786 | O33: 77523.29 | P33: 1 | Q33: 0.00367 | S33: 0.79222557 | T33: 0.97 | U33: 0.08 | V33: 0.12483912 | W33: 0.13694722 | Y33: 0.007183908 | Z33: -0.0081770438 | AA33: 0.025832576
B34: SNFF11 | C34: Suno Fundo de Fundos | D34: Fundo de Fundos | E34: BTG Pactual | F34: Suno Gestora de Recursos | G34: 0.0078 | H34: 10% sobre o que exeder 100% o IFIX | J34: 71 | K34: 83.002687 | L34: 285465.09 | M34: 333723.51 | N34: 307.48945 | O34: 4020.635 | P34: 1 | Q34: 0.00191 | S34: 0.855394 | T34: 10.58 | U34: 1.06 | V34: 0.1489931 | W34: 0.17915493 | Y34: 0.015058957 | Z34: 0.028920732 | AA34: 0.15443896
B35: KISU11 | C35: Kilima FOF Suno 30 | D35: Fundo de Fundos | E35: BRL Trust | F35: Kilima | G35: 0.006 | H35: - | J35: 6.02 | K35: 7.5548767 | L35: 358455.89 | M35: 449848.84 | N35: 401.37221 | O35: 59544.167 | P35: 1 | Q35: 0.00239 | S35: 0.7968363 | T35: 0.84 | U35: 0.07 | V35: 0.12407681 | W35: 0.13953488 | Y35: 0.010086821 | Z35: -0.051201835 | AA35: 0.0075651878
B36: KNRI11 | C36: Kinea Renda Imobiliária | D36: Híbrido | E36: Intrag | F36: Kinea | G36: 0.0125 | H36: - | J36: 157.5 | K36: 163.55903 | L36: 4442137.4 | M36: 4613026.5 | N36: 7789.5069 | O36: 28204.047 | P36: 1 | Q36: 0.0301 | S36: 0.9629551 | T36: 13.11 | U36: 1.1 | V36: 0.088372093 | W36: 0.083809524 | Y36: 0.0070332481 | Z36: 0.090637475 | AA36: 0.15376175
B37: HGRU11 | C37: Patria Renda Urbana | D37: Híbrido | E37: Patria | F37: Patria | G37: 0.007 | H37: 20% do que exceder 5,5% ao ano da cota de intragralização atualizada pelo IPCA | J37: 114.06 | K37: 128.10851 | L37: 2832589.3 | M37: 3181472.9 | N37: 10100.001 | O37: 24834.204 | P37: 1 | Q37: 0.01901 | S37: 0.89033898 | T37: 11.9 | U37: 0.95 | V37: 0.0952 | W37: 0.099947396 | Y37: -0.0027976919 | Z37: -0.028000226 | AA37: 0.003010231
B38: RBRP11 | C38: RBR Properties | D38: Híbrido | E38: BRL Trust | F38: RBR Asset | G38: 0.0118 | H38: 20% do que exceder o benchmark (IPCA + Yield IMA-B 5) | J38: 50.1 | K38: 78.651558 | L38: 610177.27 | M38: 957912.03 | N38: 708.72883 | O38: 12179.187 | P38: 1 | Q38: 0.0041 | S38: 0.63698675 | T38: 4.7 | U38: 0.35 | V38: 0.091796875 | W38: 0.083832335 | Y38: 0.10455122 | Z38: -0.038364655 | AA38: 0.073389896
B39: ALZR11 | C39: Alianza Trust Renda Imobiliária | D39: Híbrido | E39: BTG Pactual | F39: Alianza Gestão de Recurso | G39: 0.0095 | H39: - | J39: 9.96 | K39: 10.692112 | L39: 1637429 | M39: 1757788.6 | N39: 3208.443 | O39: 164400.5 | P39: 1 | Q39: 0.01103 | S39: 0.9315278 | T39: 1.0046 | U39: 0.084 | V39: 0.09468426 | W39: 0.10120482 | Y39: -0.004 | Z39: -0.012058333 | AA39: 0.034922245
B40: TRXF11 | C40: TRX Real Estate FII | D40: Híbrido | E40: BRL Trust | F40: TRX | G40: 0.01 | H40: 20% do que exceder o benchmark (IPCA + 6% a.a.) | J40: 74.2 | K40: 96.615215 | L40: 4632358 | M40: 6031755.6 | N40: 45928.549 | O40: 62430.701 | P40: 1 | Q40: 0.03071 | S40: 0.76799498 | T40: 11.8 | U40: 0.93 | V40: 0.12147416 | W40: 0.15040431 | Y40: -0.053209136 | Z40: -0.16364043 | AA40: -0.13260633
B41: FLMA11 | C41: Continental Square Faria Lima | D41: Híbrido | E41: BR-Capital | F41: BR-Capital | G41: 0.02 | H41: - | J41: 155.34 | K41: 250.73998 | L41: 214473.28 | M41: 346189.17 | N41: 58.139595 | O41: 1380.67 | P41: 0 | Q41: - | S41: 0.61952625 | T41: 14.1 | U41: 1.22 | V41: 0.098947368 | W41: 0.094244882 | Y41: 0.013364464 | Z41: 0.045724046 | AA41: 0.19471546
B42: TORD11 | C42: Tordesilhas FII | D42: Híbrido | E42: Vortx | F42: Hectare Capital | G42: 0.01 | H42: 20% o que exceder o IPCA +4% a.a. | J42: 1.01 | K42: 36.38918 | L42: 5900.353 | M42: 212583.17 | N42: 17.652251 | O42: #N/A | P42: 0 | Q42: - | S42: 0.027755503 | T42: 0.0861 | U42: 0.006 | V42: 0.027420382 | W42: 0.071287129 | Y42: -0.013781944 | Z42: -0.47588958 | AA42: -0.66066344
B43: KNHF11 | C43: Kinea Hedge Fund | D43: Híbrido | E43: Intrag | F43: Kinea | G43: 0.012 | H43: - | J43: 91.99 | K43: 98.94538 | L43: 1808821 | M43: 1945586.3 | N43: 5173.5843 | O43: 19663.235 | P43: 1 | Q43: 0.01225 | S43: 0.92970485 | T43: 12 | U43: 1 | V43: 0.13003901 | W43: 0.13044896 | Y43: 0.0062349595 | Z43: 0.050292237 | AA43: 0.12962697
B44: GARE11 | C44: Guardian Real Estate | D44: Híbrido | E44: Banco Daycoval | F44: Guardian Gestora | G44: 0.0094 | H44: 20% do que exceder IPCA + 6% | J44: 8.43 | K44: 9.0740658 | L44: 2437841.7 | M44: 2624096.8 | N44: 5913.889 | O44: 289186.44 | P44: 1 | Q44: 0.01638 | S44: 0.92902126 | T44: 0.996 | U44: 0.083 | V44: 0.10981257 | W44: 0.11814947 | Y44: 0.0087351921 | Z44: 0.016317234 | AA44: 0.043429213
...

Sheet Guia de Fiagros
C5: Dados Cadastrais | I5: Informações Financeiras | R5: Valuation | X5: Performance
C6: Média | K6: 406786.56 | L6: 496961.84 | M6: 721.50468 | R6: 0.81854688 | U6: 0.15542448 | V6: 0.15613306 | X6: -0.015444976 | Y6: -0.021401422 | Z6: 0.080595557
C7: Código | D7: Nome | E7: Administrador | F7: Gestor | G7: Tx de Adm | I7: Preço (R$/cota) | J7: Cota Patrimonial (R$/cota) | K7: Valor de Mercado (R$mil) | L7: Valor Patrimonial (R$mil) | M7: Volume Diário (R$mil/dia) | N7: # cotas | O7: IFIX | P7: % IFIX | R7: P/VP | S7: DPS 12M (R$/cota) | T7: Ultimo Dividendo (R$/cota/mês) | U7: Div Yield 12M | V7: Div Yield Anualizado | X7: No Mês | Y7: No Ano | Z7: Últimos doze meses | AB7: Média P/VP | AC7: Média Div Yield Anualizado
A8: 18 | B8: 4 | C8: KNCA11 | D8: Kinea Crédito Agro Fiagro-Imobiliário | E8: Intrag DTVM | F8: Kinea Investimentos | G8: 0.012 | I8: 86.74 | J8: 100.12002 | K8: 1873577 | L8: 2162584.3 | M8: 3202.3739 | N8: #N/A | O8: 0 | P8: - | R8: 0.8663602 | S8: 12.74 | T8: 0.85 | U8: 0.13561848 | V8: 0.11759281 | X8: -0.011284623 | Y8: -0.015543964 | Z8: 0.056760582 | AB8: 0.81854688 | AC8: 0.15613306 | AD8: 1 | AE8: SNAG11 | AF8: 0.96368012 | AG8: 1 | AH8: VCRA11 | AI8: 0.20618557
A9: 15 | B9: 1 | C9: SNAG11 | D9: Suno Agro - Fiagro-Imobiliário | E9: Singulare | F9: Suno | G9: 0.0092 | I9: 9.76 | J9: 10.127842 | K9: 872990.91 | L9: 905892.83 | M9: 1687.8831 | N9: 89445.79 | O9: 0 | P9: - | R9: 0.96368012 | S9: 1.58 | T9: 0.12 | U9: 0.1661409 | V9: 0.14754098 | X9: 0.013308164 | Y9: -0.0085135515 | Z9: 0.20565035 | AB9: 0.81854688 | AC9: 0.15613306 | AD9: 2 | AE9: VGIA11 | AF9: 0.91249494 | AG9: 2 | AH9: EGAF11 | AI9: 0.18692033
A10: 17 | B10: 3 | C10: CRAA11 | D10: Sparta Fiagro Fdo Inv Cadeias Prod Agroind - Imob | E10: BTG Pactual Serviços Financeiros | F10: Sparta | G10: 0.0115 | I10: 90.99 | J10: 100.96034 | K10: 215631.38 | L10: 239259.46 | M10: 480.22575 | N10: 2369.836 | O10: 0 | P10: - | R10: 0.90124495 | S10: 14.25 | T10: 0.95 | U10: 0.14795971 | V10: 0.12528849 | X10: -0.011328293 | Y10: 0.060446061 | Z10: 0.092874626 | AB10: 0.81854688 | AC10: 0.15613306 | AD10: 3 | AE10: CRAA11 | AF10: 0.90124495 | AG10: 3 | AH10: JGPX11 | AI10: 0.18629924
A11: 4 | B11: 7 | C11: RZAG11 | D11: Fdo Inv Cadeias Prod Agro Riza Agro Fiagro Imob | E11: Banco Genial | F11: Riza Asset Management | G11: 0.0115 | I11: 8.27 | J11: 10.024658 | K11: 562694.31 | L11: 682081.98 | M11: 1092.5125 | N11: #N/A | O11: 0 | P11: - | R11: 0.82496582 | S11: 1.495 | T11: 0.125 | U11: 0.16392544 | V11: 0.18137848 | X11: 0.0018170806 | Y11: -0.016885346 | Z11: 0.070238615 | AB11: 0.81854688 | AC11: 0.15613306 | AD11: 4 | AE11: KNCA11 | AF11: 0.8663602 | AG11: 4 | AH11: RZAG11 | AI11: 0.18137848
A12: 2 | B12: 6 | C12: EGAF11 | D12: Ecoagro I Fdo Inv Cadeias Prod Agroind Fiagro Imob | E12: Vórtx | F12: Eco Agro | G12: 0.006 | I12: 84.1 | J12: 99.145244 | K12: 263393.97 | L12: 310514.38 | M12: 657.46215 | N12: 3131.914 | O12: 0 | P12: - | R12: 0.84825047 | S12: 16.67 | T12: 1.31 | U12: 0.1813139 | V12: 0.18692033 | X12: 0.0053437685 | Y12: 0.011446071 | Z12: 0.094809721 | AB12: 0.81854688 | AC12: 0.15613306 | AD12: 5 | AE12: FGAA11 | AF12: 0.85064591 | AG12: 5 | AH12: PLCA11 | AI12: 0.17746479
A13: 12 | B13: 5 | C13: FGAA11 | D13: Fg/Agro Fdo De Invest - Fiagro - Imobiliário | E13: BRL Trust Investimentos | F13: FG/A Gestora de Recursos | G13: 0.0115 | I13: 8.08 | J13: 9.4986644 | K13: 358133.02 | L13: 421013.05 | M13: 651.52085 | N13: 44323.394 | O13: 0 | P13: - | R13: 0.85064591 | S13: 1.385 | T13: 0.11 | U13: 0.15792474 | V13: 0.16336634 | X13: 0.011111111 | Y13: 0.0008433248 | Z13: 0.077988824 | AB13: 0.81854688 | AC13: 0.15613306 | AD13: 6 | AE13: EGAF11 | AF13: 0.84825047 | AG13: 6 | AH13: DCRA11 | AI13: 0.17589577
A14: 11 | B14: 2 | C14: VGIA11 | D14: Valora Cra Fdo Inv Nas Cad Prod Agro Fiagro - Imob | E14: BTG Pactual Serviços Financeiros | F14: Valora Investimentos | G14: 0.012 | I14: 8.78 | J14: 9.6219712 | K14: 930751.47 | L14: 1020007.3 | M14: 1668.4607 | N14: 106008.14 | O14: 0 | P14: - | R14: 0.91249494 | S14: 1.64 | T14: 0.12 | U14: 0.17634409 | V14: 0.16400911 | X14: 0.040856199 | Y14: 0.010044291 | Z14: 0.13785446 | AB14: 0.81854688 | AC14: 0.15613306 | AD14: 7 | AE14: RZAG11 | AF14: 0.82496582 | AG14: 7 | AH14: GCRA11 | AI14: 0.17369093
A15: 9 | B15: 11 | C15: CPTR11 | D15: Capitania Agro Strategies - Fiagro - Imobiliário | E15: BTG Pactual Serviços Financeiros | F15: Capitânia | G15: 0.01 | I15: 7.35 | J15: 9.9815138 | K15: 145711.38 | L15: 197880.3 | M15: 241.55136 | N15: 19824.678 | O15: 0 | P15: - | R15: 0.73636125 | S15: 1.335 | T15: 0.105 | U15: 0.17682119 | V15: 0.17142857 | X15: 0.0083012216 | Y15: 0.028426199 | Z15: 0.15021044 | AB15: 0.81854688 | AC15: 0.15613306 | AD15: 8 | AE15: OIAG11 | AF15: 0.82060803 | AG15: 8 | AH15: LSAG11 | AI15: 0.17302939
A16: 10 | B16: 8 | C16: OIAG11 | D16: Ourinvest Innovation - Fiagro Imobiliário | E16: Singulare | F16: Ourinvest | G16: 0.011 | I16: 8.02 | J16: 9.7732409 | K16: 72444.652 | L16: 88281.676 | M16: 80.743204 | N16: #N/A | O16: 0 | P16: - | R16: 0.82060803 | S16: 1.42 | T16: 0.11 | U16: 0.17906683 | V16: 0.16458853 | X16: 0.021103067 | Y16: 0.051726014 | Z16: 0.18965711 | AB16: 0.81854688 | AC16: 0.15613306 | AD16: 9 | AE16: RURA11 | AF16: 0.78367994 | AG16: 9 | AH16: CPTR11 | AI16: 0.17142857
A17: 5 | B17: 13 | C17: PLCA11 | D17: Plural Crédito Agro - Fiagro - Imobiliário | E17: Genial Investimentos | F17: Plural | G17: 0.0115 | I17: 71 | J17: 96.939253 | K17: 39548.349 | L17: 53997.006 | M17: 47.531895 | N17: #N/A | O17: 0 | P17: - | R17: 0.73241745 | S17: 12.4 | T17: 1.05 | U17: 0.17601136 | V17: 0.17746479 | X17: 0.00084578517 | Y17: 0.10429302 | Z17: 0.18925012 | AB17: 0.81854688 | AC17: 0.15613306 | AD17: 10 | AE17: XPCA11 | AF17: 0.76854598 | AG17: 10 | AH17: OIAG11 | AI17: 0.16458853
A18: 13 | B18: 10 | C18: XPCA11 | D18: Xp Crédito Agrícola Fdo Inv Fiagro Imobiliário | E18: XP Investimentos | F18: XP Asset Management | G18: 0.01 | I18: 7.39 | J18: 9.61556 | K18: 336415.53 | L18: 437729.87 | M18: 514.29299 | N18: #N/A | O18: 0 | P18: - | R18: 0.76854598 | S18: 1.29 | T18: 0.1 | U18: 0.16226415 | V18: 0.1623816 | X18: -0.0040431267 | Y18: -0.016735942 | Z18: 0.089035913 | AB18: 0.81854688 | AC18: 0.15613306 | AD18: 11 | AE18: CPTR11 | AF18: 0.73636125 | AG18: 11 | AH18: VGIA11 | AI18: 0.16400911
A19: 14 | B19: 9 | C19: RURA11 | D19: Itau Asset Rural Fiagro - Imobiliário | E19: Intrag DTVM | F19: Itaú Asset Management | G19: 0.01 | I19: 8.07 | J19: 10.297571 | K19: 1292003 | L19: 1648636.1 | M19: 2221.7182 | N19: #N/A | O19: 0 | P19: - | R19: 0.78367994 | S19: 1.348 | T19: 0.105 | U19: 0.16419001 | V19: 0.15613383 | X19: 0.0068621335 | Y19: 0.03223158 | Z19: 0.15041608 | AB19: 0.81854688 | AC19: 0.15613306 | AD19: 12 | AE19: LSAG11 | AF19: 0.73605462 | AG19: 12 | AH19: FGAA11 | AI19: 0.16336634
A20: 8 | B20: 12 | C20: LSAG11 | D20: Leste Fdo Inv Cad Prod Agroind Fiagro Imob | E20: Banco Genial | F20: Leste | G20: 0.0148 | I20: 72.82 | J20: 98.932876 | K20: 73499.702 | L20: 99856.315 | M20: 31.101588 | N20: 1009.334 | O20: 0 | P20: - | R20: 0.73605462 | S20: 12.78 | T20: 1.05 | U20: 0.17019577 | V20: 0.17302939 | X20: 0.0048295847 | Y20: -0.031266834 | Z20: 0.13989306 | AB20: 0.81854688 | AC20: 0.15613306 | AD20: 13 | AE20: PLCA11 | AF20: 0.73241745 | AG20: 13 | AH20: XPCA11 | AI20: 0.1623816
A21: 6 | B21: 15 | C21: DCRA11 | D21: Devant Fdo Inv Nas Cad Prod Agroind - Fiagro Imob | E21: Banco Daycoval | F21: Devant Asset | G21: 0.001 | I21: 6.14 | J21: 9.6745411 | K21: 41376.877 | L21: 65195.814 | M21: 61.331319 | N21: 6738.905 | O21: 0 | P21: - | R21: 0.63465542 | S21: 1.13 | T21: 0.09 | U21: 0.15983027 | V21: 0.17589577 | X21: -0.070755089 | Y21: -0.066044388 | Z21: 0.019714629 | AB21: 0.81854688 | AC21: 0.15613306 | AD21: 14 | AE21: FZDA11 | AF21: 0.69068991 | AG21: 14 | AH21: RURA11 | AI21: 0.15613383
A22: 19 | B22: 14 | C22: FZDA11 | D22: 051 Agro Fdo Inv Nas Cad Prod Agro - Fiagro - Imob | E22: XP Investimentos | F22: 051 Capital | G22: 0.0082 | I22: 130 | J22: 188.21761 | K22: 201500 | L22: 291737.29 | M22: 1.0511291 | N22: #N/A | O22: 0 | P22: - | R22: 0.69068991 | S22: 4.3195785 | T22: 0 | U22: 0.033227527 | V22: 0 | X22: - | Y22: 0.028935165 | Z22: 0.036850051 | AB22: 0.81854688 | AC22: 0.15613306 | AD22: 15 | AE22: DCRA11 | AF22: 0.63465542 | AG22: 15 | AH22: SNAG11 | AI22: 0.14754098
A23: 3 | B23: 18 | C23: JGPX11 | D23: Fdo Inv Cadeias Prod Agroind Jgp Cred Fiagro Imob | E23: Banco Daycoval | F23: JGP | G23: 0.0113 | I23: 51.53 | J23: 95.777328 | K23: 110338.51 | L23: 205083.01 | M23: 368.77268 | N23: 2141.248 | O23: 0 | P23: - | R23: 0.53801877 | S23: 11.08 | T23: 0.8 | U23: 0.15627645 | V23: 0.18629924 | X23: -0.090218927 | Y23: -0.23307666 | Z23: -0.14287889 | AB23: 0.81854688 | AC23: 0.15613306 | AD23: 16 | AE23: GCRA11 | AF23: 0.58149215 | AG23: 16 | AH23: HGAG11 | AI23: 0.13333333
A24: 16 | B24: 19 | C24: HGAG11 | D24: High Fundo De Investimento Agro Fiagro Imob | E24: Vórtx | F24: High Gestão | G24: ND | I24: 10.8 | J24: 23.574852 | K24: 2681.1216 | L24: 5852.5042 | M24: 0.44961864 | N24: #N/A | O24: 0 | P24: - | R24: 0.45811528 | S24: 1.47 | T24: 0.12 | U24: 0.1 | V24: 0.13333333 | X24: -0.26128591 | Y24: -0.33023491 | Z24: -0.18717666 | AB24: 0.81854688 | AC24: 0.15613306 | AD24: 17 | AE24: VCRA11 | AF24: 0.54597864 | AG24: 17 | AH24: CRAA11 | AI24: 0.12528849
A25: 1 | B25: 17 | C25: VCRA11 | D25: Vectis Datagro Cr Agr - Fdo Inv Cad Prod Ag - Imob | E25: Intrag DTVM | F25: Vectis | G25: 0.013 | I25: 55.29 | J25: 101.2677 | K25: 253997.78 | L25: 465215.6 | M25: 441.8609 | N25: #N/A | O25: 0 | P25: - | R25: 0.54597864 | S25: 11.4 | T25: 0.95 | U25: 0.18657938 | V25: 0.20618557 | X25: 0.046366389 | Y25: -0.015957354 | Z25: 0.087190491 | AB25: 0.81854688 | AC25: 0.15613306 | AD25: 18 | AE25: JGPX11 | AF25: 0.53801877 | AG25: 18 | AH25: KNCA11 | AI25: 0.11759281
A26: 7 | B26: 16 | C26: GCRA11 | D26: Galápagos Recebíveis Do Agronegócio - Fiagro-Imob | E26: Singulare Invest | F26: Galapagos Capital | G26: 0.0115 | I26: 46.98 | J26: 80.792148 | K26: 82255.638 | L26: 141456.14 | M26: 257.74509 | N26: #N/A | O26: 0 | P26: - | R26: 0.58149215 | S26: 8.16 | T26: 0.68 | U26: 0.159375 | V26: 0.17369093 | X26: 0.010161904 | Y26: -0.00075979646 | Z26: 0.072976064 | AB26: 0.81854688 | AC26: 0.15613306 | AD26: 19 | AE26: HGAG11 | AF26: 0.45811528 | AG26: 19 | AH26: FZDA11 | AI26: 0

Sheet Guia de FI-Infra e FIP-IE
B5: Dados Cadastrais | H5: Informações Financeiras | Q5: Valuation | W5: Performance
T6: 0.13574808 | U6: 0.22019465 | W6: 0.0032065215 | X6: 0.056038439 | Y6: 0.11604686
B7: Código | C7: Nome | D7: Administrador | E7: Gestor | F7: Tx de Adm | H7: Preço (R$/cota) | I7: Cota Patrimonial (R$/cota) | J7: Valor de Mercado (R$mil) | K7: Valor Patrimonial (R$mil) | L7: Volume Diário (R$mil/dia) | M7: # cotas | N7: IFIX | O7: % IFIX | Q7: P/VP | R7: DPS 12M (R$/cota) | S7: Ultimo Dividendo (R$/cota/mês) | T7: Div Yield 12M | U7: Div Yield Anualizado | W7: No Mês | X7: No Ano | Y7: Últimos doze meses
B8: KDIF11 | C8: Kinea Infra - Fdo Inv Cotas Fdo Inc. Inv Inf Rf Cp | D8: Intrag | E8: Kinea | F8: 0.0113 | H8: 114.15 | I8: - | J8: - | K8: - | L8: 5423.2347 | M8: #N/A | N8: 0 | O8: - | Q8: - | R8: 15.88 | S8: 1 | T8: 0.12828177 | U8: 0.10512484 | W8: 0.0040460902 | X8: -0.047390538 | Y8: 0.047087075
B9: BDIF11 | C9: Btg Pactual Dívida Infra Fic. Fdo. Inc. Ie. Rf. Cp | D9: BTG Pactual | E9: BTG Pactual | F9: 0.0075 | H9: 68.74 | I9: - | J9: - | K9: - | L9: 2089.5565 | M9: #N/A | N9: 0 | O9: - | Q9: - | R9: 9.8 | S9: 0.85 | T9: 0.13082366 | U9: 0.14838522 | W9: 0.0086519061 | X9: 0.045199257 | Y9: 0.049641791
B10: PFIN11 | C10: Perfin Apollo Energia Fip Em Infraestrutura | D10: BTG Pactual | E10: Perfin | F10: 0.006 | H10: 60.8 | I10: - | J10: - | K10: - | L10: 669.05122 | M10: #N/A | N10: 0 | O10: - | Q10: - | R10: 30.14 | S10: 0 | T10: 0.38860237 | U10: 0 | W10: -0.025641026 | X10: 0.16485316 | Y10: 0.18832747
B11: BDIV11 | C11: Btg Pactual Ie Div. Fdo Inv. Part. Ie | D11: BTG Pactual | E11: BTG Pactual | F11: 0.011 | H11: 37 | I11: - | J11: - | K11: - | L11: 362.18952 | M11: #N/A | N11: 0 | O11: - | Q11: - | R11: 13.685 | S11: 7.285 | T11: 0.34084682 | U11: 2.3627027 | W11: 0.069364162 | X11: 0.16922653 | Y11: 0.31913277
B12: CPTI11 | C12: Capitânia Infra Fdo. Inv. Fdo. Ie. Rf. Cred. Priv. | D12: BTG Pactual | E12: Capitânia | F12: 0.01 | H12: 84.05 | I12: - | J12: - | K12: - | L12: 2695.2976 | M12: #N/A | N12: 0 | O12: - | Q12: - | R12: 13.2 | S12: 1.15 | T12: 0.15951662 | U12: 0.16418798 | W12: 0.015832729 | X12: 0.078021417 | Y12: 0.18302842
B13: JURO11 | C13: Sparta Infra Fic Fi Infra Renda Fixa Cp | D13: BTG Pactual | E13: Sparta | F13: 0.01 | H13: 97.76 | I13: - | J13: - | K13: - | L13: 4423.3767 | M13: #N/A | N13: 0 | O13: - | Q13: - | R13: 10 | S13: 1 | T13: 0.10057327 | U13: 0.12274959 | W13: 0.019714196 | X13: 0.013811272 | Y13: 0.085809728
B14: IFRA11 | C14: Itau Fdo Inv Cotas Fdo Incent De Inv Infr. Rf Cp | D14: Intrag | E14: Itaú | F14: 0.0085 | H14: 89.47 | I14: - | J14: - | K14: - | L14: 2528.2247 | M14: #N/A | N14: 0 | O14: - | Q14: - | R14: 10.93 | S14: 0.85 | T14: 0.11162173 | U14: 0.11400469 | W14: -0.028977643 | X14: -0.023860748 | Y14: 0.022708768
B15: PPEI11 | C15: Prisma Proton Energia Fdo. Invest. Part. Infra. | D15: BTG Pactual | E15: Prisma | F15: 0.011 | H15: 84.16 | I15: - | J15: - | K15: - | L15: 229.61559 | M15: #N/A | N15: 0 | O15: - | Q15: - | R15: 12.25 | S15: 1 | T15: 0.13461538 | U15: 0.14258555 | W15: 0.0038167939 | X15: 0.15859398 | Y15: 0.070717343
B16: VIGT11 | C16: Vinci Energia Fdo Inv Part Ie | D16: BTG Pactual | E16: Vinci Partners | F16: 0.015 | H16: 47.51 | I16: - | J16: - | K16: - | L16: 359.67979 | M16: #N/A | N16: 0 | O16: - | Q16: - | R16: 2.8 | S16: 0.25 | T16: 0.073030777 | U16: 0.063144601 | W16: -0.025435897 | X16: 0.10561102 | Y16: 0.31648401
B17: XPID11 | C17: Xp Fdo Inv. Cotas Fdo Inc. Inv. Em Infr. R. Fixa | D17: Banco Plural | E17: XP Asset Management | F17: 0.0095 | H17: 48.47 | I17: - | J17: - | K17: - | L17: 133.40356 | M17: #N/A | N17: 0 | O17: - | Q17: - | R17: 7.75 | S17: 0.75 | T17: 0.1494408 | U17: 0.18568187 | W17: 0.013592639 | X17: 0.17615836 | Y17: 0.091756393
B18: XPIE11 | C18: Xp Infra Ii Fdo De Inv Part Ie | D18: Banco Plural | E18: XP Asset Management | F18: 0.013 | H18: 43.47 | I18: - | J18: - | K18: - | L18: 813.80639 | M18: #N/A | N18: 0 | O18: - | Q18: - | R18: 6.26 | S18: 0.14 | T18: 0.10450751 | U18: 0.038647343 | W18: -0.016515837 | X18: -0.059643777 | Y18: -0.08832433
B19: BRZP11 | C19: Brz Infra Portos Fdo, Inv. Em Part. Infraestrutura | D19: Modal DTVM | E19: BRZ | F19: 0.015 | H19: 179.15 | I19: - | J19: - | K19: - | L19: 975.84239 | M19: #N/A | N19: 0 | O19: - | Q19: - | R19: 0 | S19: 0 | T19: 0 | U19: 0 | W19: 0.016165627 | X19: 0.095218237 | Y19: 0.31563236
... B26: RBIF11 | C26: Rio Bravo Esg Fic Infra Renda Fixa Crédito Privado | D26: Banco Daycoval | E26: Rio Bravo | F26: 0.0085 | H26: 64.15 | I26: - | J26: - | K26: - | L26: 452.25552 | M26: #N/A | N26: 0 | O26: - | Q26: - | R26: 9.93 | S26: 0.6 | T26: 0.1347537 | U26: 0.11223694 | W26: -0.031405707 | X26: -0.038978739 | Y26: 0.02268131

Sheet Escritórios
C4: Data Ref: 18/09/2026 | D4: Fonte: B3, Economatica, XP Investimentos
C6: Dados Cadastrais | E6: Informações Financeiras | G6: Valuation | L6: Performance
C7: Média Escritórios: | D7: - | E7: - | F7: - | G7: 0.6188553 | H7: 7.2076961 | I7: 0.62026316 | J7: 0.10916578 | K7: 0.10283307 | L7: 0.022129774 | M7: -0.0071173424 | N7: 0.094476816
C8: Código | D8: Número de Cotas | E8: Valor de Mercado | F8: Valor Patrimonial | G8: P/VP | H8: Dividendo por Cota 12M | I8: Dividendo por Cota (Último) | J8: Dvd Yield 12M | K8: Dvd Yield Anualizado | L8: No Mês | M8: No Ano | N8: Últimos doze meses
A9: 1 | B9: 19 | C9: PATC11 | D9: 3477.434 | E9: 130403.77 | F9: 119150.94 | G9: 1.0944418 | H9: 0.68 | I9: 0.09 | J9: 0.018133333 | K9: 0.0288 | L9: -0.046529367 | M9: -0.093649456 | N9: -0.027983565 | Q9: 0.6188553 | R9: 0.10283307 | S9: 1 | T9: PATC11 | U9: 1.0944418 | V9: 1 | W9: VGRI11 | X9: 0.16666667
A10: 5 | B10: 10 | C10: TEPP11 | D10: 53763.691 | E10: 385485.66 | F10: 504964.58 | G10: 0.76339149 | H10: 1.169 | I10: 0.068 | J10: 0.16304045 | K10: 0.11380753 | L10: -0.060534591 | M10: -0.07674391 | N10: 0.010289214 | Q10: 0.6188553 | R10: 0.10283307 | S10: 2 | T10: AIEC11 | U10: 0.8647828 | V10: 2 | W10: RECT11 | X10: 0.16348774
A11: 11 | B11: 11 | C11: KORE11 | D11: 9625 | E11: 626010 | F11: 1032867 | G11: 0.60608967 | H11: 9.8 | I11: 0.6 | J11: 0.15067651 | K11: 0.11070111 | L11: 0.0037037037 | M11: -0.048205308 | N11: 0.061748335 | Q11: 0.6188553 | R11: 0.10283307 | S11: 3 | T11: HGRE11 | U11: 0.77044773 | V11: 3 | W11: SPTW11 | X11: 0.15929204
A12: 7 | B12: 18 | C12: PVBI11 | D12: 27130.067 | E12: 1825853.5 | F12: 2842168.1 | G12: 0.64241573 | H12: 5.07 | I12: 0.37 | J12: 0.075334324 | K12: 0.065973254 | L12: -0.012182592 | M12: -0.13781284 | N12: -0.040651805 | Q12: 0.6188553 | R12: 0.10283307 | S12: 4 | T12: GTWR11 | U12: 0.76962218 | V12: 4 | W12: CEOC11 | X12: 0.14334471
A13: 9 | B13: 1 | C13: VGRI11 | D13: 35021.736 | E13: 189117.37 | F13: 299910.54 | G13: 0.63057929 | H13: 1.17 | I13: 0.075 | J13: 0.21666667 | K13: 0.16666667 | L13: 0.014084507 | M13: -0.27415992 | N13: -0.26931462 | Q13: 0.6188553 | R13: 0.10283307 | S13: 5 | T13: TEPP11 | U13: 0.76339149 | V13: 5 | W13: GTWR11 | X13: 0.13844379
A14: 4 | B14: 5 | C14: GTWR11 | D14: 12000 | E14: 936120 | F14: 1216337.1 | G14: 0.76962218 | H14: 10.8 | I14: 0.9 | J14: 0.13844379 | K14: 0.13844379 | L14: 0.003989704 | M14: 0.036724017 | N14: 0.1514844 | Q14: 0.6188553 | R14: 0.10283307 | S14: 6 | T14: RCRB11 | U14: 0.69476763 | V14: 6 | W14: BRCR11 | X14: 0.11855422
A15: 3 | B15: 14 | C15: HGRE11 | D15: 11817.767 | E15: 1370861 | F15: 1779304.3 | G15: 0.77044773 | H15: 11.5 | I15: 0.85 | J15: 0.099137931 | K15: 0.087931034 | L15: -0.013773168 | M15: 0.0049808782 | N15: 0.081873703 | Q15: 0.6188553 | R15: 0.10283307 | S15: 7 | T15: PVBI11 | U15: 0.64241573 | V15: 7 | W15: RCRB11 | X15: 0.11763819
A16: 6 | B16: 7 | C16: RCRB11 | D16: 3690.695 | E16: 489423.06 | F16: 704441.37 | G16: 0.69476763 | H16: 12.8 | I16: 1.3 | J16: 0.096523641 | K16: 0.11763819 | L16: 0.012290076 | M16: 0.011286258 | N16: 0.16075604 | Q16: 0.6188553 | R16: 0.10283307 | S16: 8 | T16: RNGO11 | U16: 0.63596088 | V16: 8 | W16: VINO11 | X16: 0.11748252
A17: 10 | B17: 3 | C17: SPTW11 | D17: 1798 | E17: 60952.2 | F17: 96739.837 | G17: 0.63006308 | H17: 5.89 | I17: 0.45 | J17: 0.17374631 | K17: 0.15929204 | L17: 0.25277162 | M17: 0.035899411 | N17: 0.13543989 | Q17: 0.6188553 | R17: 0.10283307 | S17: 9 | T17: VGRI11 | U17: 0.63057929 | V17: 9 | W17: RNGO11 | X17: 0.11650485
A18: 2 | B18: 16 | C18: AIEC11 | D18: 4824.987 | E18: 316036.65 | F18: 365452.05 | G18: 0.8647828 | H18: 4.2 | I18: 0.38 | J18: 0.064122137 | K18: 0.069618321 | L18: 0.013618075 | M18: 0.30394988 | N18: 0.38662095 | Q18: 0.6188553 | R18: 0.10283307 | S18: 10 | T18: SPTW11 | U18: 0.63006308 | V18: 10 | W18: TEPP11 | X18: 0.11380753
A19: 13 | B19: 13 | C19: JSRE11 | D19: 20767.328 | E19: 1252062.2 | F19: 2107266.3 | G19: 0.59416422 | H19: 5.8 | I19: 0.5 | J19: 0.096201692 | K19: 0.099518992 | L19: 0 | M19: -0.028836444 | N19: 0.065361886 | Q19: 0.6188553 | R19: 0.10283307 | S19: 11 | T19: KORE11 | U19: 0.60608967 | V19: 11 | W19: KORE11 | X19: 0.11070111
A20: 12 | B20: 4 | C20: CEOC11 | D20: 1815.696 | E20: 74479.85 | F20: 123295.05 | G20: 0.60407816 | H20: 5.5808229 | I20: 0.49 | J20: 0.13605127 | K20: 0.14334471 | L20: 0.047035235 | M20: -0.018303861 | N20: 0.052681067 | Q20: 0.6188553 | R20: 0.10283307 | S20: 13 | T20: JSRE11 | U20: 0.59416422 | V20: 13 | W20: JSRE11 | X20: 0.099518992
... A25: 18 | B25: 2 | C25: RECT11 | D25: 8543.493 | E25: 282191.57 | F25: 767704.92 | G25: 0.36757817 | H25: 5.32 | I25: 0.45 | J25: 0.1610657 | K25: 0.16348774 | L25: 0.037132643 | M25: -0.040166081 | N25: 0.13914075 | Q25: 0.6188553 | R25: 0.10283307 | S25: 18 | T25: RECT11 | U25: 0.36757817 | V25: 18 | W25: PVBI11 | X25: 0.065973254
A26: 17 | B26: 15 | C26: CBOP11 | D26: 1415 | E26: 39620 | F26: 101799.85 | G26: 0.38919509 | H26: 2.16 | I26: 0.2 | J26: 0.077142857 | K26: 0.085714286 | L26: 0.0071942446 | M26: -0.10823591 | N26: 0.23380743 | Q26: 0.6188553 | R26: 0.10283307 | S26: 20 | T26: #N/A | U26: #N/A | V26: 20 | W26: #N/A | X26: #N/A
A27: 19 | B27: 17 | C27: ALMI11 | D27: 111.177 | E27: 69262.159 | F27: 228557.41 | G27: 0.30304053 | H27: 37.755402 | I27: 3.53 | J27: 0.060603545 | K27: 0.067994671 | L27: 0.060462662 | M27: 0.10099698 | N27: 0.15154799 | Q27: 0.6188553 | R27: 0.10283307 | S27: 21 | T27: #N/A | U27: #N/A | V27: 21 | W27: #N/A | X27: #N/A

Sheet Galpões Logísticos
C4: Data Ref: 18/09/2026 | D4: Fonte: B3, Economatica, XP Investimentos
C6: Dados Cadastrais | E6: Informações Financeiras | G6: Valuation | L6: Performance
C7: Média Galpões Logísticos: | E7: - | F7: - | G7: 0.8734827 | H7: 9.9159313 | I7: 0.777 | J7: 0.10332485 | K7: 0.10332562 | L7: -0.0021565836 | M7: -0.021563844 | N7: 0.044093604
C8: Código | D8: Número de Cotas | E8: Valor de Mercado | F8: Valor Patrimonial | G8: P/VP | H8: Dividendo por Cota 12M | I8: Dividendo por Cota (Último) | J8: Dvd Yield 12M | K8: Dvd Yield Anualizado | L8: No Mês | M8: No Ano | N8: Últimos doze meses
A9: 14 | B9: 15 | C9: FIIB11 | D9: 685 | E9: 288816.55 | F9: 406640.56 | G9: 0.71025023 | H9: 36.81 | I9: 2.75 | J9: 0.087304034 | K9: 0.078267675 | L9: 0.010497304 | M9: -0.06821205 | N9: -0.10023511 | Q9: 0.8734827 | R9: 0.10332562 | S9: 1 | T9: BRCO11 | U9: 0.96044396 | V9: 1 | W9: BLMG11 | X9: 0.15339233
A10: 3 | B10: 12 | C10: HGLG11 | D10: 45582.811 | E10: 6745344.4 | F10: 7570811.7 | G10: 0.89096713 | H10: 13.34 | I10: 1.17 | J10: 0.090147317 | K10: 0.094877686 | L10: 0.0055038391 | M10: 0.0027121892 | N10: 0.015942349 | Q10: 0.8734827 | R10: 0.10332562 | S10: 2 | T10: BTLG11 | U10: 0.94857996 | V10: 2 | W10: RZAT11 | X10: 0.13756735
A11: 2 | B11: 11 | C11: BTLG11 | D11: 70940.261 | E11: 7179154.4 | F11: 7568317.6 | G11: 0.94857996 | H11: 9.62 | I11: 0.81 | J11: 0.095059289 | K11: 0.096047431 | L11: 0.029504763 | M11: 0.060837911 | N11: 0.086465572 | Q11: 0.8734827 | R11: 0.10332562 | S11: 3 | T11: HGLG11 | U11: 0.89096713 | V11: 3 | W11: GGRC11 | X11: 0.13333333
A12: 1 | B12: 9 | C12: BRCO11 | D12: 18021.303 | E12: 1986308 | F12: 2068114.4 | G12: 0.96044396 | H12: 10.96 | I12: 0.91 | J12: 0.099437489 | K12: 0.099074578 | L12: -0.024946921 | M12: 0.0041924368 | N12: 0.075020912 | Q12: 0.8734827 | R12: 0.10332562 | S12: 4 | T12: XPLG11 | U12: 0.88861302 | V12: 4 | W12: HSLG11 | X12: 0.11434379
A13: 8 | B13: 3 | C13: GGRC11 | D13: 345709.46 | E13: 3111385.1 | F13: 3777611.9 | G13: 0.82363811 | H13: 1.2 | I13: 0.1 | J13: 0.13333333 | K13: 0.13333333 | L13: -0.0034062323 | M13: -0.0047315329 | N13: 0.027799966 | Q13: 0.8734827 | R13: 0.10332562 | S13: 5 | T13: RZAT11 | U13: 0.85894614 | V13: 5 | W13: NEWL11 | X13: 0.1132396
A14: 4 | B14: 7 | C14: XPLG11 | D14: 51390.098 | E14: 4778765.2 | F14: 5377779.9 | G14: 0.88861302 | H14: 9.84 | I14: 0.82 | J14: 0.10581783 | K14: 0.10581783 | L14: 0.022767268 | M14: -0.052658094 | N14: 0.020408406 | Q14: 0.8734827 | R14: 0.10332562 | S14: 6 | T14: TRUE11 | U14: 0.85676206 | V14: 6 | W14: VILG11 | X14: 0.10930904
A15: 5 | B15: 2 | C15: RZAT11 | D15: 4235.042 | E15: 369422.71 | F15: 430088.33 | G15: 0.85894614 | H15: 14.05 | I15: 1 | J15: 0.16106844 | K15: 0.13756735 | L15: -0.035306178 | M15: 0.1149178 | N15: 0.12740263 | Q15: 0.8734827 | R15: 0.10332562 | S15: 7 | T15: VILG11 | U15: 0.82825625 | V15: 7 | W15: XPLG11 | X15: 0.10581783
A16: 11 | B16: 10 | C16: LVBI11 | D16: 16118.565 | E16: 1563500.8 | F16: 1950169.7 | G16: 0.8017255 | H16: 9.05 | I16: 0.8 | J16: 0.093298969 | K16: 0.098969072 | L16: -0.016825461 | M16: -0.079110052 | N16: -0.017628295 | Q16: 0.8734827 | R16: 0.10332562 | S16: 8 | T16: GGRC11 | U16: 0.82363811 | V16: 8 | W16: TRBL11 | X16: 0.1019305
A17: 13 | B17: 4 | C17: HSLG11 | D17: 12660.067 | E17: 996473.87 | F17: 1393090.3 | G17: 0.71529741 | H17: 8.69 | I17: 0.75 | J17: 0.11040529 | K17: 0.11434379 | L17: 0.0057500639 | M17: -0.081703825 | N17: 0.016852277 | Q17: 0.8734827 | R17: 0.10332562 | S17: 9 | T17: RBRL11 | U17: 0.82203259 | V17: 9 | W17: BRCO11 | X17: 0.099074578
A18: 10 | B18: 5 | C18: NEWL11 | D18: 2810.193 | E18: 297796.15 | F18: 370313.93 | G18: 0.80417216 | H18: 11.93 | I18: 1 | J18: 0.11257903 | K18: 0.1132396 | L18: 0.018942308 | M18: 0.0019632619 | N18: 0.13359281 | Q18: 0.8734827 | R18: 0.10332562 | S18: 10 | T18: NEWL11 | U18: 0.80417216 | V18: 10 | W18: LVBI11 | X18: 0.098969072
A19: 7 | B19: 6 | C19: VILG11 | D19: 14997.396 | E19: 1350065.6 | F19: 1630009.5 | G19: 0.82825625 | H19: 9.44 | I19: 0.82 | J19: 0.10486559 | K19: 0.10930904 | L19: -0.041524702 | M19: -0.025251055 | N19: 0.13576247 | Q19: 0.8734827 | R19: 0.10332562 | S19: 11 | T19: LVBI11 | U19: 0.8017255 | V19: 11 | W19: BTLG11 | X19: 0.096047431
A20: 12 | B20: 14 | C20: HLOG11 | D20: 42500 | E20: 393125 | F20: 503629.16 | G20: 0.78058426 | H20: 0.949 | I20: 0.072 | J20: 0.10259459 | K20: 0.093405405 | L20: -0.0083619211 | M20: 0.083372029 | N20: 0.18171559 | Q20: 0.8734827 | R20: 0.10332562 | S20: 12 | T20: HLOG11 | U20: 0.78058426 | V20: 12 | W20: HGLG11 | X20: 0.094877686
... A24: 6 | B24: 16 | C24: TRUE11 | D24: 2468.099 | E24: 58025.007 | F24: 67725.93 | G24: 0.85676206 | H24: 0 | I24: 0 | J24: 0 | K24: 0 | L24: -0.0596 | M24: -0.020416667 | N24: -0.0044859798 | Q24: 0.8734827 | R24: 0.10332562 | S24: 16 | T24: BLMG11 | U24: 0.66735652 | V24: 16 | W24: TRUE11 | X24: 0

Sheet Shopping
C4: Data Ref: 18/09/2026 | D4: Fonte: B3, Economatica, XP Investimentos
C6: Dados Cadastrais | E6: Informações Financeiras | G6: Valuation | L6: Performance
C7: Média Shopping Centers: | E7: - | F7: - | G7: 0.82441196 | H7: 28.25804 | I7: 1.8182758 | J7: 0.112009 | K7: 0.10736909 | L7: 0.010431398 | M7: 0.0030385291 | N7: 0.064385913
C8: Código | D8: Número de Cotas | E8: Valor de Mercado | F8: Valor Patrimonial | G8: P/VP | H8: Dividendo por Cota 12M | I8: Dividendo por Cota (Último) | J8: Dvd Yield 12M | K8: Dvd Yield Anualizado | L8: No Mês | M8: No Ano | N8: Últimos doze meses
A9: 3 | B9: 13 | C9: SHPH11 | D9: 608.95 | E9: 569155.12 | F9: 629749.01 | G9: 0.90378089 | H9: 64.5 | I9: 4.5 | J9: 0.06900979 | K9: 0.057775638 | L9: -0.049669548 | M9: 0.045984443 | N9: 0.019424604 | Q9: 0.82441196 | R9: 0.10736909 | S9: 1 | T9: PQDP11 | U9: 0.95120823 | V9: 1 | W9: CPSH11 | X9: 0.13469388
A10: 2 | B10: 7 | C10: HGBS11 | D10: 144355.73 | E10: 2687903.6 | F10: 2913123.6 | G10: 0.92268782 | H10: 1.95 | I10: 0.17 | J10: 0.1047261 | K10: 0.10955961 | L10: 0.005399568 | M10: 0.0042647732 | N10: 0.051242933 | Q10: 0.82441196 | R10: 0.10736909 | S10: 2 | T10: HGBS11 | U10: 0.92268782 | V10: 2 | W10: BPML11 | X10: 0.1270572
A11: 4 | B11: 6 | C11: XPML11 | D11: 64308.055 | E11: 6302189.4 | F11: 7081112.8 | G11: 0.88999986 | H11: 11.04 | I11: 0.92 | J11: 0.11265306 | K11: 0.11265306 | L11: -0.03742265 | M11: -0.028507935 | N11: 0.023664852 | Q11: 0.82441196 | R11: 0.10736909 | S11: 3 | T11: SHPH11 | U11: 0.90378089 | V11: 3 | W11: FIGS11 | X11: 0.12005002
A12: 5 | B12: 9 | C12: VISC11 | D12: 28828.64 | E12: 2960701.3 | F12: 3328225.6 | G12: 0.88957352 | H12: 9.96 | I12: 0.84 | J12: 0.0969815 | K12: 0.098149951 | L12: 0.0072577481 | M12: 0.010232552 | N12: 0.060218622 | Q12: 0.82441196 | R12: 0.10736909 | S12: 4 | T12: XPML11 | U12: 0.88999986 | V12: 4 | W12: GZIT11 | X12: 0.11707317
A13: 6 | B13: 5 | C13: PMLL11 | D13: 17750.467 | E13: 1830605.7 | F13: 2117294.6 | G13: 0.86459658 | H13: 11.44 | I13: 1 | J13: 0.11092796 | K13: 0.11635799 | L13: 0.01746251 | M13: 0.065527391 | N13: 0.15361377 | Q13: 0.82441196 | R13: 0.10736909 | S13: 5 | T13: VISC11 | U13: 0.88957352 | V13: 5 | W13: PMLL11 | X13: 0.11635799
A14: 8 | B14: 1 | C14: CPSH11 | D14: 123163.84 | E14: 1207005.7 | F14: 1419754.7 | G14: 0.85015088 | H14: 1.36 | I14: 0.11 | J14: 0.13877551 | K14: 0.13469388 | L14: 0.030420341 | M14: -0.025418861 | N14: 0.14368284 | Q14: 0.82441196 | R14: 0.10736909 | S14: 6 | T14: PMLL11 | U14: 0.86459658 | V14: 6 | W14: XPML11 | X14: 0.11265306
A15: 7 | B15: 8 | C15: HSML11 | D15: 21329.976 | E15: 1798117 | F15: 2110218.6 | G15: 0.85209988 | H15: 8.59 | I15: 0.75 | J15: 0.10189798 | K15: 0.10676157 | L15: 0.0050071531 | M15: -0.021156691 | N15: 0.071934846 | Q15: 0.82441196 | R15: 0.10736909 | S15: 7 | T15: HSML11 | U15: 0.85209988 | V15: 7 | W15: HGBS11 | X15: 0.10955961
A16: 12 | B16: 11 | C16: BBIG11 | D16: 99120.994 | E16: 510473.12 | F16: 965913.44 | G16: 0.52848744 | H16: 0.77 | I16: 0.03 | J16: 0.14951456 | K16: 0.069902913 | L16: 0.06185567 | M16: -0.23454322 | N16: -0.18073216 | Q16: 0.82441196 | R16: 0.10736909 | S16: 8 | T16: CPSH11 | U16: 0.85015088 | V16: 8 | W16: HSML11 | X16: 0.10676157
A17: 11 | B17: 10 | C17: ABCP11 | D17: 4709.082 | E17: 356006.6 | F17: 521536.5 | G17: 0.68261109 | H17: 7.15 | I17: 0.55 | J17: 0.09457672 | K17: 0.087301587 | L17: 0.021621622 | M17: 0.0068909688 | N17: 0.023121176 | Q17: 0.82441196 | R17: 0.10736909 | S17: 9 | T17: BPML11 | U17: 0.72956155 | V17: 9 | W17: VISC11 | X17: 0.098149951
A18: 1 | B18: 12 | C18: PQDP11 | D18: 259.104 | E18: 642570.15 | F18: 675530.48 | G18: 0.95120823 | H18: 226.99452 | I18: 13.007586 | J18: 0.091531155 | K18: 0.062940694 | L18: -0.00081080913 | M18: 0.13153138 | N18: 0.16846584 | Q18: 0.82441196 | R18: 0.10736909 | S18: 10 | T18: FIGS11 | U18: 0.68426772 | V18: 10 | W18: ABCP11 | X18: 0.087301587
A19: 10 | B19: 3 | C19: FIGS11 | D19: 2850 | E19: 136743 | F19: 199838.45 | G19: 0.68426772 | H19: 5.78 | I19: 0.48 | J19: 0.12046686 | K19: 0.12005002 | L19: 0.0069254984 | M19: 0.11346829 | N19: 0.12446652 | Q19: 0.82441196 | R19: 0.10736909 | S19: 11 | T19: ABCP11 | U19: 0.68261109 | V19: 11 | W19: BBIG11 | X19: 0.069902913
A20: 9 | B20: 2 | C20: BPML11 | D20: 7441.745 | E20: 646613.22 | F20: 886303.86 | G20: 0.72956155 | H20: 11.04 | I20: 0.92 | J20: 0.1270572 | K20: 0.1270572 | L20: 0.022235294 | M20: 0.10801754 | N20: 0.23443551 | Q20: 0.82441196 | R20: 0.10736909 | S20: 12 | T20: BBIG11 | U20: 0.52848744 | V20: 12 | W20: PQDP11 | X20: 0.062940694
A21: 13 | B21: 4 | C21: GZIT11 | D21: 23297.836 | E21: 859690.15 | F21: 2027037.2 | G21: 0.42411168 | H21: 6.78 | I21: 0.36 | J21: 0.18373984 | K21: 0.11707317 | L21: 0.045325779 | M21: -0.13678975 | N21: -0.056522495 | Q21: 0.82441196 | R21: 0.10736909 | S21: 13 | T21: GZIT11 | U21: 0.42411168 | V21: 13 | W21: SHPH11 | X21: 0.057775638
C37: Shopping Centers | G37: 0.80864878 | J37: 0.11456246 | K37: 0.10866402 | L37: 0.01635256 | M37: -0.00097712165 | N37: 0.069668121
C38: Shopping Centers | G38: 0.76822848 | J38: 0.11566154 | K38: 0.10636785 | L38: 0.021730081 | M38: 0.0017759597 | N38: 0.074268448
C39: Shopping Centers | G39: 0.73125623 | J39: 0.12258533 | K39: 0.10941383 | L39: 0.023338118 | M39: 0.00083633831 | N39: 0.07582954
C40: Shopping Centers | G40: 0.69919666 | J40: 0.1260512 | K40: 0.10734926 | L40: 0.024072569 | M40: -0.0072500432 | N40: 0.066106511
C41: Shopping Centers | G41: 0.67018137 | J41: 0.12294864 | K41: 0.10068185 | L41: 0.023165744 | M41: -0.0046544979 | N41: 0.055024178
C42: Shopping Centers | G42: 0.59742242 | J42: 0.13495701 | K42: 0.097213665 | L42: 0.026192176 | M42: -0.0019041324 | N42: 0.052205733
C43: Shopping Centers | G43: 0.61287055 | J43: 0.13214388 | K43: 0.10249125 | L43: 0.019059477 | M43: 0.044623686 | N43: 0.098793312

Sheet Recebíveis
D4: Data Ref: 18/09/2026 | E4: Fonte: B3, Economatica, XP Investimentos
D6: Dados Cadastrais | F6: Informações Financeiras | H6: Valuation | M6: Performance
D7: Média Recebíveis Imobiliários: | F7: - | G7: - | H7: 0.90651944 | I7: 7.996725 | J7: 0.62525833 | K7: 0.13780545 | L7: 0.13019483 | M7: -0.01559043 | N7: -0.020452758 | O7: 0.034217671
D8: Código | E8: Número de Cotas | F8: Valor de Mercado | G8: Valor Patrimonial | H8: P/VP | I8: Dividendo por Cota 12M | J8: Dividendo por Cota (Último) | K8: Dvd Yield 12M | L8: Dvd Yield Anualizado | M8: No Mês | N8: No Ano | O8: Últimos doze meses
A9: 6 | B9: 3 | C9: 20 | D9: KNUQ11 | E9: 21484.73 | F9: 2202184.8 | G9: 2159100.6 | H9: 1.0199547 | I9: 14.57 | J9: 1.2 | K9: 0.14214634 | L9: 0.1404878 | M9: -0.011240856 | N9: 0.081457211 | O9: 0.13131253 | R9: 0.90651944 | S9: 0.13019483 | T9: 1 | U9: KNCR11 | V9: 1.0448643 | W9: 1 | X9: OUJP11 | Y9: 0.20930233 | Z9: 1 | AA9: KNCR11 | AB9: 1.0448643 | AC9: 0.12868333
A10: 24 | B10: 7 | C10: 29 | D10: AFHI11 | E10: 5288.811 | F10: 497941.56 | G10: 505166.74 | H10: 0.98569743 | I10: 12.05 | J10: 1 | K10: 0.12798725 | L10: 0.12745619 | M10: 0.014422985 | N10: 0.080941842 | O10: 0.15614922 | R10: 0.90651944 | S10: 0.13019483 | T10: 2 | U10: KNSC11 | V10: 1.0350755 | W10: 2 | X10: VCJR11 | Y10: 0.20198929 | Z10: 2 | AA10: KNIP11 | AB10: 0.96161977 | AC10: 0.086859688
A11: 4 | B11: 11 | C11: 34 | D11: KNHY11 | E11: 31173.083 | F11: 2961442.9 | G11: 3084289.4 | H11: 0.96017025 | I11: 12.68 | J11: 0.9 | K11: 0.13347368 | L11: 0.11368421 | M11: -0.012268663 | N11: 0.04166177 | O11: 0.06831064 | R11: 0.90651944 | S11: 0.13019483 | T11: 3 | U11: KNUQ11 | V11: 1.0199547 | W11: 3 | X11: LIFE11 | Y11: 0.19856115 | Z11: 3 | AA11: MXRF11 | AB11: 0.98270321 | AC11: 0.13186813
A12: 8 | B12: 2 | C12: 32 | D12: KNSC11 | E12: 204155.17 | F12: 1851687.4 | G12: 1788939.5 | H12: 1.0350755 | I12: 1.15 | J12: 0.09 | K12: 0.12679162 | L12: 0.11907387 | M12: 0.0022099448 | N12: 0.13550055 | O12: 0.18473756 | R12: 0.90651944 | S12: 0.13019483 | T12: 4 | U12: MCCI11 | V12: 1.0094911 | W12: 4 | X12: URPR11 | Y12: 0.18556701 | Z12: 4 | AA12: KNHY11 | AB12: 0.96017025 | AC12: 0.11368421
A13: 1 | B13: 1 | C13: 27 | D13: KNCR11 | E13: 107089.62 | F13: 11484291 | G13: 10991180 | H13: 1.0448643 | I13: 14.14 | J13: 1.15 | K13: 0.13185379 | L13: 0.12868333 | M13: 0.0028053114 | N13: 0.099090193 | O13: 0.16841361 | R13: 0.90651944 | S13: 0.13019483 | T13: 5 | U13: MANA11 | V13: 0.99308573 | W13: 5 | X13: HABT11 | Y13: 0.17549261 | Z13: 5 | AA13: CPTS11 | AB13: 0.88227628 | AC13: 0.14438503
A14: 10 | B14: 9 | C14: 30 | D14: HGCR11 | E14: 15418.106 | F14: 1460403 | G14: 1508480.2 | H14: 0.96812873 | I14: 11.75 | J14: 1 | K14: 0.12404983 | L14: 0.12668919 | M14: 0.0044538706 | N14: 0.057870026 | O14: 0.14373023 | R14: 0.90651944 | S14: 0.13019483 | T14: 6 | U14: VGIR11 | V14: 0.98667559 | W14: 6 | X14: BCRI11 | Y14: 0.16762898 | Z14: 6 | AA14: KNUQ11 | AB14: 1.0199547 | AC14: 0.1404878
A15: 2 | B15: 10 | C15: 35 | D15: KNIP11 | E15: 80078.186 | F15: 7191021.1 | G15: 7478029.6 | H15: 0.96161977 | I15: 10.11 | J15: 0.65 | K15: 0.11258352 | L15: 0.086859688 | M15: -0.0092674316 | N15: 0.084062132 | O15: 0.13480261 | R15: 0.90651944 | S15: 0.13019483 | T15: 7 | U15: AFHI11 | V15: 0.98569743 | W15: 7 | X15: RZAK11 | Y15: 0.1640625 | Z15: 7 | AA15: RECR11 | AB15: 0.87219235 | AC15: 0.11567002
A16: 3 | B16: 8 | C16: 26 | D16: MXRF11 | E16: 567206.27 | F16: 5161577.1 | G16: 5252427.2 | H16: 0.98270321 | I16: 1.195 | J16: 0.1 | K16: 0.13131868 | L16: 0.13186813 | M16: -0.0087145969 | N16: 0.047079801 | O16: 0.059109184 | R16: 0.90651944 | S16: 0.13019483 | T16: 8 | U16: MXRF11 | V16: 0.98270321 | W16: 8 | X16: VGIR11 | Y16: 0.16132368 | Z16: 8 | AA16: KNSC11 | AB16: 1.0350755 | AC16: 0.11907387
A17: 36 | B17: 36 | C17: 36 | D17: CACR11 | E17: 4836.324 | F17: 74189.21 | G17: 447803.18 | H17: 0.1656737 | I17: 10.35 | J17: 0.04 | K17: 0.67470665 | L17: 0.031290743 | M17: -0.050742574 | N17: -0.77798202 | O17: -0.76022362 | R17: 0.90651944 | S17: 0.13019483 | T17: 9 | U17: HGCR11 | V17: 0.96812873 | W17: 9 | X17: MANA11 | Y17: 0.15686275 | Z17: 9 | AA17: MCCI11 | AB17: 1.0094911 | AC17: 0.12644889
A18: 30 | B18: 13 | C18: 28 | D18: KCRE11 | E18: 36000 | F18: 303480 | G18: 337635.8 | H18: 0.89883833 | I18: 1.16 | J18: 0.09 | K18: 0.1376038 | L18: 0.12811388 | M18: -0.020905923 | N18: 0.061173569 | O18: 0.12349829 | R18: 0.90651944 | S18: 0.13019483 | T18: 10 | U18: KNIP11 | V18: 0.96161977 | W18: 10 | X18: MCRE11 | Y18: 0.15665796 | Z18: 10 | AA18: HGCR11 | AB18: 0.96812873 | AC18: 0.12668919
A19: 11 | B19: 6 | C19: 8 | D19: VGIR11 | E19: 146101.29 | F19: 1412799.4 | G19: 1431878.4 | H19: 0.98667559 | I19: 1.51 | J19: 0.13 | K19: 0.15615305 | L19: 0.16132368 | M19: 0.024334988 | N19: 0.10456583 | O19: 0.16762842 | R19: 0.90651944 | S19: 0.13019483 | T19: 11 | U19: KNHY11 | V19: 0.96017025 | W19: 11 | X19: RBRR11 | Y19: 0.15557476 | Z19: 11 | AA19: VGIR11 | AB19: 0.98667559 | AC19: 0.16132368
A20: 15 | B20: 24 | C20: 14 | D20: RBRY11 | E20: 12769.512 | F20: 1047100 | G20: 1282408.3 | H20: 0.81651059 | I20: 13.3 | J20: 1 | K20: 0.16219512 | L20: 0.14634146 | M20: 0.0096939086 | N20: -0.068997445 | O20: -0.0071321476 | R20: 0.90651944 | S20: 0.13019483 | T20: 12 | U20: WHGR11 | V20: 0.90294874 | W20: 12 | X20: CYCR11 | Y20: 0.15436893 | Z20: 12 | AA20: PCIP11 | AB20: 0.78010906 | AC20: 0.13190437
... A44: 34 | B44: 35 | C44: 4 | D44: URPR11 | E44: 11733.895 | F44: 227637.56 | G44: 1068584.7 | H44: 0.21302716 | I44: 3.99 | J44: 0.3 | K44: 0.2056701 | L44: 0.18556701 | M44: -0.034345445 | N44: -0.43543053 | O44: -0.41216848 | R44: 0.90651944 | S44: 0.13019483 | T44: 36 | U44: CACR11 | V44: 0.1656737 | W44: 36 | X44: CACR11 | Y44: 0.031290743 | Z44: 36 | AA44: CACR11 | AB44: 0.1656737 | AC44: 0.031290743

Sheet Outros
E4: Data Ref: 18/09/2026 | F4: Fonte: B3, Economatica, XP Investimentos
D6: Dados Cadastrais | H6: Informações Financeiras | J6: Valuation | O6: Performance
D7: Outros | E7: Média: | F7: - | G7: - | H7: - | I7: - | J7: 0.78689284 | K7: 9.016725 | L7: 0.665 | M7: 0.1254642 | N7: 0.11790058 | O7: 0.012688717 | P7: -0.13274289 | Q7: -0.075896225
E8: Código | F8: Segmento | G8: Número de Cotas | H8: Valor de Mercado | I8: Valor Patrimonial | J8: P/VP | K8: Dividendo por Cota 12M | L8: Dividendo por Cota (Último) | M8: Dvd Yield 12M | N8: Dvd Yield Anualizado | O8: No Mês | P8: No Ano | Q8: Últimos doze meses
A9: 7 | B9: 2 | E9: TRXF11 | F9: Híbrido | G9: 62430.701 | H9: 4632358 | I9: 6031755.6 | J9: 0.76799498 | K9: 11.8 | L9: 0.93 | M9: 0.15902965 | N9: 0.15040431 | O9: -0.053209136 | P9: -0.16364043 | Q9: -0.13260633 | T9: 0.78689284 | U9: 0.11790058 | V9: 1 | W9: KNRI11 | X9: 0.9629551 | Y9: 1 | Z9: TGAR11 | AA9: 0.18834081
A10: 3 | B10: 5 | E10: HTMX11 | F10: Hotel | G10: 2888.094 | H10: 393214 | I10: 428841.37 | J10: 0.9169218 | K10: 17.32 | L10: 1.2 | M10: 0.12721263 | N10: 0.1057657 | O10: 0.0027249963 | P10: -0.011584766 | Q10: 0.10912774 | T10: 0.78689284 | U10: 0.11790058 | V10: 2 | W10: ALZR11 | X10: 0.9315278 | Y10: 2 | Z10: TRXF11 | AA10: 0.15040431
A11: 2 | B11: 6 | E11: ALZR11 | F11: Híbrido | G11: 164400.5 | H11: 1637429 | I11: 1757788.6 | J11: 0.9315278 | K11: 1.0046 | L11: 0.084 | M11: 0.10086345 | N11: 0.10120482 | O11: -0.004 | P11: -0.012058333 | Q11: 0.034922245 | T11: 0.78689284 | U11: 0.11790058 | V11: 3 | W11: HTMX11 | X11: 0.9169218 | Y11: 3 | Z11: TVRI11 | AA11: 0.14466131
A12: 4 | B12: 7 | E12: HGRU11 | F12: Híbrido | G12: 24834.204 | H12: 2832589.3 | I12: 3181472.9 | J12: 0.89033898 | K12: 11.9 | L12: 0.95 | M12: 0.10433105 | N12: 0.099947396 | O12: -0.0027976919 | P12: -0.028000226 | Q12: 0.003010231 | T12: 0.78689284 | U12: 0.11790058 | V12: 4 | W12: HGRU11 | X12: 0.89033898 | Y12: 4 | Z12: RBVA11 | AA12: 0.12217195
A13: 5 | B13: 3 | E13: TVRI11 | F13: Agências Bancárias | G13: 15919.69 | H13: 1386605 | I13: 1601567.7 | J13: 0.86577982 | K13: 12.6 | L13: 1.05 | M13: 0.14466131 | N13: 0.14466131 | O13: -0.0085372795 | P13: -0.043337597 | Q13: 0.072069608 | T13: 0.78689284 | U13: 0.11790058 | V13: 5 | W13: TVRI11 | X13: 0.86577982 | Y13: 5 | Z13: HTMX11 | AA13: 0.1057657
A14: 1 | B14: 11 | E14: KNRI11 | F14: Híbrido | G14: 28204.047 | H14: 4442137.4 | I14: 4613026.5 | J14: 0.9629551 | K14: 13.11 | L14: 1.1 | M14: 0.083238095 | N14: 0.083809524 | O14: 0.0070332481 | P14: 0.090637475 | Q14: 0.15376175 | T14: 0.78689284 | U14: 0.11790058 | V14: 6 | W14: RBVA11 | X14: 0.82937279 | Y14: 6 | Z14: ALZR11 | AA14: 0.10120482
A15: 11 | B15: 9 | E15: MFII11 | F15: Desenvolvimento | G15: 6800 | H15: 270572 | I15: 660371.18 | J15: 0.40972715 | K15: 10.77 | L15: 0.3 | M15: 0.27067102 | N15: 0.090474994 | O15: 0.11425371 | P15: -0.4169795 | Q15: -0.41247063 | T15: 0.78689284 | U15: 0.11790058 | V15: 7 | W15: TRXF11 | X15: 0.76799498 | Y15: 7 | Z15: HGRU11 | AA15: 0.099947396
A16: 6 | B16: 4 | E16: RBVA11 | F16: Agências Bancárias | G16: 165268.14 | H16: 1460970.4 | I16: 1761536.4 | J16: 0.82937279 | K16: 1.08 | L16: 0.09 | M16: 0.12217195 | N16: 0.12217195 | O16: 0.016091954 | P16: -0.072082064 | Q16: 0.060950023 | T16: 0.78689284 | U16: 0.11790058 | V16: 8 | W16: RBRP11 | X16: 0.63698675 | Y16: 8 | Z16: FLMA11 | AA16: 0.094244882
A17: 10 | B17: 1 | E17: TGAR11 | F17: Híbrido | G17: 23567.968 | H17: 1051131.4 | I17: 2513202.3 | J17: 0.41824384 | K17: 9.73 | L17: 0.7 | M17: 0.21816143 | N17: 0.18834081 | O17: -0.023428947 | P17: -0.46733911 | Q17: -0.40696125 | T17: 0.78689284 | U17: 0.11790058 | V17: 9 | W17: FLMA11 | X17: 0.61952625 | Y17: 9 | Z17: MFII11 | AA17: 0.090474994
A18: 8 | B18: 10 | E18: RBRP11 | F18: Híbrido | G18: 12179.187 | H18: 610177.27 | I18: 957912.03 | J18: 0.63698675 | K18: 4.7 | L18: 0.35 | M18: 0.093812375 | N18: 0.083832335 | O18: 0.10455122 | P18: -0.038364655 | Q18: 0.073389896 | T18: 0.78689284 | U18: 0.11790058 | V18: 10 | W18: TGAR11 | X18: 0.41824384 | Y18: 10 | Z18: RBRP11 | AA18: 0.083832335
A19: 9 | B19: 8 | E19: FLMA11 | F19: Híbrido | G19: 1380.67 | H19: 214473.28 | I19: 346189.17 | J19: 0.61952625 | K19: 14.1 | L19: 1.22 | M19: 0.090768637 | N19: 0.094244882 | O19: 0.013364464 | P19: 0.045724046 | Q19: 0.19471546 | T19: 0.78689284 | U19: 0.11790058 | V19: 11 | W19: MFII11 | X19: 0.40972715 | Y19: 11 | Z19: KNRI11 | AA19: 0.083809524
A20: 12 | B20: 12 | E20: TORD11 | F20: Híbrido | G20: 5841.9337 | H20: 5900.353 | I20: 212583.17 | J20: 0.027755503 | K20: 0.0861 | L20: 0.006 | M20: 0.085247525 | N20: 0.071287129 | O20: -0.013781944 | P20: -0.47588958 | Q20: -0.66066344
AA21: #N/A
AA22: #N/A
AA23: #N/A
AA24: #N/A
AA25: #N/A
AA26: #N/A
AA27: #N/A
AA28: #N/A
AA29: #N/A
AA30: #N/A
AA31: #N/A
AA32: #N/A

Sheet FoF
C4: Data Ref: 18/09/2026 | D4: Fonte: B3, Economatica, XP Investimentos
C6: Dados Cadastrais | E6: Informações Financeiras | G6: Valuation | L6: Performance
C7: Média Fundo de Fundos: | E7: - | F7: - | G7: 0.81563329 | H7: 4.7562222 | I7: 0.412 | J7: 0.12955849 | K7: 0.130482 | L7: 0.0048065437 | M7: -0.0001608448 | N7: 0.080708743
C8: Código | D8: Número de Cotas | E8: Valor de Mercado | F8: Valor Patrimonial | G8: P/VP | H8: Dividendo por Cota 12M | I8: Dividendo por Cota (Último) | J8: Dvd Yield 12M | K8: Dvd Yield Anualizado | L8: No Mês | M8: No Ano | N8: Últimos doze meses
A9: 8 | B9: 4 | C9: JSAF11 | D9: 77523.29 | E9: 543438.26 | F9: 685964.06 | G9: 0.79222557 | H9: 0.97 | I9: 0.08 | J9: 0.13837375 | K9: 0.13694722 | L9: 0.007183908 | M9: -0.0081770438 | N9: 0.025832576 | Q9: 0.81563329 | R9: 0.130482 | S9: 1 | T9: BCIA11 | U9: 0.91226621 | V9: 1 | W9: SNFF11 | X9: 0.17915493
