Workbook
Name _21: OFFSET('[1]Curva 21'!$C$1,COUNTIFS('[1]Curva 21'!$C:$C,"<>"&"",'[1]Curva 21'!$C:$C,"<>"&"#NAME?",'[1]Curva 21'!$C:$C,"<>"&"0")-252,0,252)
Name _25: OFFSET('[1]Curva 25'!$C$1,COUNTIFS('[1]Curva 25'!$C:$C,"<>"&"",'[1]Curva 25'!$C:$C,"<>"&"#NAME?",'[1]Curva 25'!$C:$C,"<>"&"0")-252,0,252)
Name _Valor: OFFSET('[1]Curva 25'!$D$1,COUNTIFS('[1]Curva 25'!$D:$D,"<>"&"",'[1]Curva 25'!$D:$D,"<>"&"#NAME?",'[1]Curva 25'!$D:$D,"<>"&"0")-252,0,252)
Name _Valor2: OFFSET('[1]Curva 21'!$D$1,COUNTIFS('[1]Curva 21'!$D:$D,"<>"&"",'[1]Curva 21'!$D:$D,"<>"&"#NAME?",'[1]Curva 21'!$D:$D,"<>"&"0")-252,0,252)
Name AAAAAA: OFFSET([2]Weight!$A$5,1,654-1,75,1)
Name aaaaauuu: OFFSET([2]Weight!$A$5,1,655-1,75,1)
Name bb: OFFSET([2]Weight!$A$5,1,655-1,75,1)
Name BBBBB: OFFSET([2]Weight!$A$5,1,MATCH('[2]Comp Weight'!A$6,[2]Weight!$5:$5,0)-1,75,1)
Name Data: OFFSET('[3]BRLUSD Hist'!$A$1,COUNTA('[3]BRLUSD Hist'!$A:$A)-1,0,-6)
Name Data2: OFFSET('[3]BRLUSD Hist'!$A$1,1,0,COUNTA('[3]BRLUSD Hist'!$A:$A)-1)
Name DDDD: OFFSET([2]Weight!$A$5,1,MATCH('[2]Comp Weight'!XFD$5,[2]Weight!$5:$5,0)-1,75,1)
Name High: OFFSET('[3]BRLUSD Hist'!$A$1,COUNTA('[3]BRLUSD Hist'!$A:$A)-1,1,-6)
Name HLPBRD_IB: #REF!
Name HLPBRD_IB: #REF!
Name HLPBRD_IB: #REF!
Name HLPBRD_IB: #REF!
Name HLPBRD_IB: #REF!
Name HLPBRD_IB: #REF!
Name HLPBRD_IB: #REF!
Name HLPBRD_IB: #REF!
Name HLPBRD_IB: #REF!
Name HLPBRD_IB: #REF!
Name HLPBRD_IR: #REF!
Name HLPBRD_IR: #REF!
Name HLPBRD_IR: #REF!
Name HLPBRD_IR: #REF!
Name HLPBRD_IR: #REF!
Name HLPBRD_IR: #REF!
Name HLPBRD_IR: #REF!
Name HLPBRD_IR: #REF!
Name HLPBRD_IR: #REF!
Name HLPBRD_IR: #REF!
Name HLPBRD_OBR: #REF!
Name HLPBRD_OBR: #REF!
Name HLPBRD_OBR: #REF!
Name HLPBRD_OBR: #REF!
Name HLPBRD_OBR: #REF!
Name HLPBRD_OBR: #REF!
Name HLPBRD_OBR: #REF!
Name HLPBRD_OBR: #REF!
Name HLPBRD_OBR: #REF!
Name HLPBRD_OBR: #REF!
Name KK: OFFSET([2]Weight!$A$5,1,MATCH('[2]Comp Weight'!XFD$5,[2]Weight!$5:$5,0)-1,75,1)
Name Last: OFFSET('[3]BRLUSD Hist'!$A$1,COUNTA('[3]BRLUSD Hist'!$A:$A)-1,3,-6)
Name Low: OFFSET('[3]BRLUSD Hist'!$A$1,COUNTA('[3]BRLUSD Hist'!$A:$A)-1,2,-6)
Name oebsi: OFFSET('[3]BRLUSD Hist'!$A$1,COUNTA('[3]BRLUSD Hist'!$A:$A)-1,1,-6,3)
Name Return: OFFSET([2]Weight!$A$5,1,MATCH('[2]Comp Weight'!XFC$5,[2]Weight!$5:$5,0)-1,75,1)
Name Serie: OFFSET('[3]BRLUSD Hist'!$A$1,1,3,COUNTA('[3]BRLUSD Hist'!$A:$A)-1)
Name TickerR1C1: #REF!
Name TickerR1C1: #REF!
Name TickerR1C1: #REF!
Name TickerR1C1: #REF!
Name TickerR1C1: #REF!
Name TickerR1C1: #REF!
Name TickerR1C1: #REF!
Name TickerR1C1: #REF!
Name TickerR1C1: #REF!
Name TickerR1C1: #REF!
Name Tudo: OFFSET('[3]BRLUSD Hist'!$A$1,MATCH(TODAY(),'[3]BRLUSD Hist'!$A:$A)-1,0,-6,4)
Name yyy: OFFSET([2]Weight!$A$5,1,MATCH([2]Weight!WJC$6,[2]Weight!$5:$5,0)-1,75,1)

Sheet Capa
K1: a
O7: Acesse a tese do Itaú
O8: Acesse a tese do Banco do Brasil
O9: Acesse a tese do Banrisul
O10: Acesse a tese do Bradesco
O11: Acesse a tese do Santander
O12: Acesse a tese do BR Partners
O13: -
O14: 1
O15: Link para a
O16: tese completa
O17: Acesse a tese da BRF
O18: Acesse a tese da JBS
O19: Acesse a tese da Ambev
O20: Acesse a tese do Marfrig
O21: Acesse a tese de Jalles Machado
O22: Acesse a tese de São Martinho
O23: Acesse a tese de Boa Safra Sementes
O24: Acesse a tese de BrasilAgro
O25: -
O26: -
... O40: -
O41: 1
O42: Link para a
O43: tese completa
O44: Acesse a tese da Ânima
O45: Acesse a tese da Yduqs
O46: Acesse a tese da Cogna
O47: Acesse a tese da Ser
O48: -
O49: -
O50: 1
O51: Link para a
O52: tese completa
O53: Acesse a tese da AES Tietê
O54: Acesse a tese da Engie
O55: Acesse a tese da Cemig
O56: Acesse a tese da Cemig
O57: Acesse a tese da Equatorial
O58: Acesse a tese da CTEEP
...

Sheet Multiplos >>
O6: Acesse a tese do Itaú
O7: Acesse a tese do Banco do Brasil
O8: Acesse a tese do Banrisul
O9: Acesse a tese do Bradesco
O10: Acesse a tese do Santander
O11: Acesse a tese do BR Partners
O12: -
O13: 1
O14: Link para a
O15: tese completa
O16: Acesse a tese da BRF
O17: Acesse a tese da JBS
O18: Acesse a tese da Ambev
O19: Acesse a tese do Marfrig
O20: Acesse a tese de Jalles Machado
O21: Acesse a tese de São Martinho
O22: Acesse a tese de Boa Safra Sementes
O23: Acesse a tese de BrasilAgro
O24: -
O25: -
... O28: -
O29: 1
O30: Link para a
O31: Acesse a tese de WEG
O32: Acesse a tese da Aeris
O33: Acesse aqui a tese de Randon
O34: Acesse aqui a tese da Fras-Le
O35: Acesse aqui a tese de Tupy
O36: Acesse aqui a tese de Iochpe-Maxion
O37: Acesse aqui a tese da Marcopolo
O38: -
O39: -
O40: -
O41: 1
O42: Link para a
O43: tese completa
O44: Acesse a tese da Ânima
O45: Acesse a tese da Yduqs
O46: Acesse a tese da Cogna
O47: Acesse a tese da Ser
...

Sheet Multiplos
G1: Buy | H1: Under Review | I1: Sell
G2: Neutral | H2: Restricted
B4: Companhia | C4: Ticker | D4: Setor | E4: Analista | F4: Recomendação | G4: Preço | H4: Preço | I4: % Upside | J4: P/L | L4: EV/EBITDA | N4: Div Liq/EBITDA | P4: P/VP | R4: ROE | T4: Div. Yield
G5: Alvo (R$) | H5: Atual (R$) | J5: 2026 | K5: 2027 | L5: 2026 | M5: 2027 | N5: 2026 | O5: 2027 | P5: 2026 | Q5: 2027 | R5: 2026 | S5: 2027 | T5: 2026 | U5: 2027
B6: =MATCH(B8,[4]Multiples!$1:$1,0) -> 1 | C6: =MATCH(C8,[4]Multiples!$1:$1,0) -> 2 | D6: =MATCH(D8,[4]Multiples!$1:$1,0) -> 3 | E6: =MATCH(E8,[4]Multiples!$1:$1,0) -> 4 | F6: =MATCH(F8,[4]Multiples!$1:$1,0) -> 5 | G6: =MATCH(G8,[4]Multiples!$1:$1,0) -> 9 | H6: =MATCH(H8,[4]Multiples!$1:$1,0) -> 10 | I6: =MATCH(I8,[4]Multiples!$1:$1,0) -> 11 | ... U6: =MATCH(U8,[4]Multiples!$1:$1,0) -> 23
J7: P/E | K7: P/E | L7: EV/EBITDA | M7: EV/EBITDA | N7: NET_DEBT/EBITDA | O7: NET_DEBT/EBITDA | P7: P/BV | Q7: P/BV | R7: ROE | S7: ROE | T7: DIV_YIELD | U7: DIV_YIELD
B8: NAME | C8: TICKER | D8: SECTOR_XP | E8: LEAD_ANALYST | F8: RECOMMENDATION | G8: TARGET | H8: adj_close_price | I8: UPSIDE | J8: =J7&"_"&J5 -> P/E_2026 | K8: =K7&"_"&K5 -> P/E_2027 | L8: =L7&"_"&L5 -> EV/EBITDA_2026 | M8: =M7&"_"&M5 -> EV/EBITDA_2027 | N8: =N7&"_"&N5 -> NET_DEBT/EBITDA_2026 | O8: =O7&"_"&O5 -> NET_DEBT/EBITDA_2027 | P8: =P7&"_"&P5 -> P/BV_2026 | Q8: =Q7&"_"&Q5 -> P/BV_2027 | ... U8: =U7&"_"&U5 -> DIV_YIELD_2027
A9: =_xlfn.CONCAT(C9," BZ Equity") -> TTEN3 BZ Equity | B9: 3tentos | C9: TTEN3 | D9: Agro | E9: Leonardo Alencar | F9: Compra | G9: 21.6 | H9: 13.69 | I9: 0.57779401 | J9: 8.1542148 | K9: 7.2012582 | L9: 5.5319096 | M9: 5.1254142 | N9: 1.3041959 | O9: 1.1340049 | P9: 1.2853591 | Q9: 1.1336054 | R9: 0.15763126 | S9: 0.15741769 | T9: 0.030658991 | U9: 0.034716156
A10: =_xlfn.CONCAT(C10," BZ Equity") -> AGXY3 BZ Equity | B10: Agrogalaxy | C10: AGXY3 | D10: Agro | E10: Leonardo Alencar | F10: Sob Revisão | G10: - | H10: - | I10: - | J10: - | K10: - | L10: - | M10: - | N10: - | O10: - | P10: - | Q10: - | R10: - | S10: - | T10: - | U10: -
A11: =_xlfn.CONCAT(C11," BZ Equity") -> SOJA3 BZ Equity | B11: Boa Safra | C11: SOJA3 | D11: Agro | E11: Leonardo Alencar | F11: Compra | G11: 11.8 | H11: 8.21 | I11: 0.43727162 | J11: 13.322221 | K11: 9.3342118 | L11: 7.1025476 | M11: 6.0728333 | N11: 2.0891473 | O11: 1.5213251 | P11: 0.55535515 | Q11: 0.5316719 | R11: 0.041686379 | S11: 0.056959486 | T11: 0.018616181 | U11: 0.026923118
A12: =_xlfn.CONCAT(C12," BZ Equity") -> AGRO3 BZ Equity | B12: BrasilAgro | C12: AGRO3 | D12: Agro | E12: Leonardo Alencar | F12: Neutro | G12: 22.5 | H12: 18.53 | I12: 0.21424717 | J12: -597.23288 | K12: 440.11043 | L12: 13.816711 | M12: 13.666866 | N12: 4.6417082 | O12: 3.9199664 | P12: 0.86567741 | Q12: 0.86482687 | R12: -0.0014494805 | S12: 0.0019650224 | T12: 0.01753277 | U12: 0.0011360785
A13: =_xlfn.CONCAT(C13," BZ Equity") -> JALL3 BZ Equity | B13: Jalles Machado | C13: JALL3 | D13: Agro | E13: Leonardo Alencar | F13: Compra | G13: 4.1 | H13: 2.98 | I13: 0.37583893 | J13: 16.476356 | K13: 3.5751177 | L13: 1.7976679 | M13: 1.4818729 | N13: 1.1384274 | O13: 0.94054545 | P13: 0.43974593 | Q13: 0.40260507 | R13: 0.026689513 | S13: 0.11261309 | T13: 0.015877189 | U13: 0.069927767
A14: =_xlfn.CONCAT(C14," BZ Equity") -> RAIZ4 BZ Equity | B14: Raizen | C14: RAIZ4 | D14: Agro | E14: Leonardo Alencar | F14: Sob Revisão | G14: - | H14: - | I14: - | J14: - | K14: - | L14: - | M14: - | N14: - | O14: - | P14: - | Q14: - | R14: - | S14: - | T14: - | U14: -
A15: =_xlfn.CONCAT(C15," BZ Equity") -> SLCE3 BZ Equity | B15: SLC Agricola | C15: SLCE3 | D15: Agro | E15: Leonardo Alencar | F15: Neutro | G15: 18.7 | H15: 16.97 | I15: 0.10194461 | J15: 12.68631 | K15: 14.812569 | L15: 6.8041824 | M15: 6.0319699 | N15: 3.72094 | O15: 3.3310868 | P15: 1.373286 | Q15: 1.312447 | R15: 0.10824945 | S15: 0.088603601 | T15: 0.018503249 | U15: 0.033755117
A16: =_xlfn.CONCAT(C16," BZ Equity") -> SMTO3 BZ Equity | B16: São Martinho | C16: SMTO3 | D16: Agro | E16: Leonardo Alencar | F16: Compra | G16: 22.4 | H16: 20.85 | I16: 0.074340528 | J16: 8.0483236 | K16: 20.78347 | L16: 4.0189441 | M16: 4.0504589 | N16: 2.098012 | O16: 2.0738426 | P16: 0.91385416 | Q16: 0.88836084 | R16: 0.1135459 | S16: 0.042743626 | T16: 0 | U16: 0.012733954
A17: =_xlfn.CONCAT(C17," BZ Equity") -> VITT3 BZ Equity | B17: Vittia | C17: VITT3 | D17: Agro | E17: Leonardo Alencar | F17: Compra | G17: 5.1 | H17: 3.67 | I17: 0.38964578 | J17: 17.3335 | K17: 12.830296 | L17: 6.6074738 | M17: 5.6843889 | N17: 1.3579245 | O17: 1.0377435 | P17: 0.8692686 | Q17: 0.827234 | R17: 0.05014963 | S17: 0.064475051 | T17: 0.014422938 | U17: 0.019485131
A18: =_xlfn.CONCAT(C18," BZ Equity") -> ABEV3 BZ Equity | B18: Ambev | C18: ABEV3 | D18: Alimentos & Bebidas | E18: Leonardo Alencar | F18: Venda | G18: 13 | H18: 16.69 | I18: -0.22109047 | J18: 15.972086 | K18: 16.554165 | L18: 7.4115572 | M18: 7.2206213 | N18: -0.76103256 | O18: -1.0557737 | P18: 2.8185927 | Q18: 2.7398013 | R18: 0.17646992 | S18: 0.16550525 | T18: 0.050087384 | U18: 0.048326206
A19: =_xlfn.CONCAT(C19," BZ Equity") -> CAML3 BZ Equity | B19: Camil | C19: CAML3 | D19: Alimentos & Bebidas | E19: Leonardo Alencar | F19: Compra | G19: 8.3 | H19: 6.5 | I19: 0.27692308 | J19: 52.888065 | K19: 9.2702091 | L19: 5.3922057 | M19: 5.0336864 | N19: 3.0123591 | O19: 2.8637052 | P19: 0.67467558 | Q19: 0.65491452 | R19: 0.01275667 | S19: 0.070647222 | T19: 0.063149452 | U19: 0.063149452
A20: =_xlfn.CONCAT(C20," BZ Equity") -> JBS BZ Equity | B20: JBS | C20: JBS | D20: Alimentos & Bebidas | E20: Leonardo Alencar | F20: Compra | G20: 20.3 | H20: 12.47 | I20: 0.62790698 | J20: 24.480946 | K20: 11.158644 | L20: 5.7976838 | M20: 5.22999 | N20: 3.341704 | O20: 3.03835 | P20: 1.4016189 | Q20: 1.3569021 | R20: 0.057253461 | S20: 0.12160099 | T20: 0.077808979 | U20: 0.074881199
A21: =_xlfn.CONCAT(C21," BZ Equity") -> MDIA3 BZ Equity | B21: M. Dias Branco | C21: MDIA3 | D21: Alimentos & Bebidas | E21: Leonardo Alencar | F21: Neutro | G21: 25.5 | H21: 19.35 | I21: 0.31782946 | J21: 9.1641728 | K21: 8.039816 | L21: 4.523493 | M21: 3.7215474 | N21: -0.92374648 | O21: -1.3187949 | P21: 0.74112252 | Q21: 0.69658885 | R21: 0.080871732 | S21: 0.086642387 | T21: 0.028535568 | U21: 0.03811846
A22: =_xlfn.CONCAT(C22," BZ Equity") -> MBRF3 BZ Equity | B22: MBRF | C22: MBRF3 | D22: Alimentos & Bebidas | E22: Leonardo Alencar | F22: Neutro | G22: 20.45 | H22: 18.81 | I22: 0.087187666 | J22: 298.93647 | K22: 14.264251 | L22: 5.9880338 | M22: 5.5565548 | N22: 3.9272622 | O22: 3.6125966 | P22: 1.8169782 | Q22: 1.7081841 | R22: 0.0060781417 | S22: 0.11975281 | T22: 0 | U22: 0.035052665
B23: Minerva | C23: BEEF3 | D23: Alimentos & Bebidas | E23: Leonardo Alencar | F23: Neutro | G23: 7.2 | H23: 4.29 | I23: 0.67832168 | J23: 3.4855641 | K23: 3.9451679 | L23: 4.1030342 | M23: 4.0248326 | N23: 3.2010154 | O23: 3.1285544 | P23: 1.1869106 | Q23: 1.0317141 | R23: 0.34052181 | S23: 0.26151336 | T23: 0.11279621 | U23: 0.12673732
A24: =_xlfn.CONCAT(C24," BZ Equity") -> AGBK BZ Equity | B24: Agibank | C24: AGBK | D24: Bancos | E24: Bernardo Guttmann | F24: Compra | G24: 13 | H24: 7.34 | I24: 0.77111717 | J24: 5.9448687 | K24: 4.2568981 | L24: - | M24: - | N24: - | O24: - | P24: 1.0807066 | Q24: 0.91763367 | R24: 0.18178814 | S24: 0.21556393 | T24: 0 | U24: 0.070473851
A25: =_xlfn.CONCAT(C25," BZ Equity") -> BRBI11 BZ Equity | B25: BR Partners | C25: BRBI11 | D25: Bancos | E25: Bernardo Guttmann | F25: Compra | G25: 22 | H25: 18.64 | I25: 0.18025751 | J25: 13.111083 | K25: 10.809654 | L25: - | M25: - | N25: - | O25: - | P25: 2.3676757 | Q25: 2.2003464 | R25: 0.18058582 | S25: 0.20355382 | T25: 0.049790498 | U25: 0.060391142
A26: =_xlfn.CONCAT(C26," BZ Equity") -> BPAC11 BZ Equity | B26: BTG Pactual | C26: BPAC11 | D26: Bancos | E26: Bernardo Guttmann | F26: Compra | G26: 63 | H26: 80.56 | I26: -0.21797418 | J26: 16.089214 | K26: 14.326484 | L26: - | M26: - | N26: - | O26: - | P26: 4.0051174 | Q26: 3.4804299 | R26: 0.24893183 | S26: 0.24293679 | T26: 0.020836532 | U26: 0.030796572
B27: Banco Mercantil do Brasil | C27: BMEB4 | D27: Bancos | E27: Bernardo Guttmann | F27: Compra | G27: 100 | H27: 82.26 | I27: 0.21565767 | J27: 7.4462302 | K27: 5.7741969 | L27: - | M27: - | N27: - | O27: - | P27: 2.2991785 | Q27: 1.8558091 | R27: 0.3087708 | S27: 0.32139692 | T27: 0.020475101 | U27: 0.069273703
B28: Banco Pine | C28: PINE4 | D28: Bancos | E28: Bernardo Guttmann | F28: Compra | G28: 20 | H28: 17.71 | I28: 0.12930548 | J28: 6.0488701 | K28: 5.0395546 | L28: - | M28: - | N28: - | O28: - | P28: 1.9127549 | Q28: 1.5824218 | R28: 0.3162169 | S28: 0.31400033 | T28: 0.041330033 | U28: 0.089293606
B29: Banco do Brasil | C29: BBAS3 | D29: Bancos | E29: Bernardo Guttmann | F29: Neutro | G29: 21 | H29: 24.1 | I29: -0.12863071 | J29: 8.1351851 | K29: 5.8020124 | L29: - | M29: - | N29: - | O29: - | P29: 0.71663292 | Q29: 0.65960348 | R29: 0.088090549 | S29: 0.11368529 | T29: 0.029505224 | U29: 0.051706197
A30: =_xlfn.CONCAT(C30," BZ Equity") -> BBDC4 BZ Equity | B30: Bradesco | C30: BBDC4 | D30: Bancos | E30: Bernardo Guttmann | F30: Neutro | G30: 21 | H30: 20.65 | I30: 0.016949153 | J30: 7.7202259 | K30: 6.9880467 | L30: - | M30: - | N30: - | O30: - | P30: 1.1929155 | Q30: 1.0963688 | R30: 0.15451821 | S30: 0.15689203 | T30: 0.063003392 | U30: 0.069282023
B31: Inter | C31: INBR32 | D31: Bancos | E31: Bernardo Guttmann | F31: Neutro | G31: 45 | H31: - | I31: - | J31: - | K31: - | L31: - | M31: - | N31: - | O31: - | P31: - | Q31: - | R31: 0.15424996 | S31: 0.15226135 | T31: - | U31: -
A32: =_xlfn.CONCAT(C32," BZ Equity") -> ITUB4 BZ Equity | B32: Itaú Unibanco | C32: ITUB4 | D32: Bancos | E32: Bernardo Guttmann | F32: Compra | G32: 50 | H32: 48.9 | I32: 0.022494888 | J32: 11.070655 | K32: 10.061739 | L32: - | M32: - | N32: - | O32: - | P32: 2.6495719 | Q32: 2.4248479 | R32: 0.2393329 | S32: 0.2409969 | T32: 0.05220931 | U32: 0.064408852
B33: Nubank | C33: NU | D33: Bancos | E33: Bernardo Guttmann | F33: Compra | G33: 21 | H33: 15.05 | I33: 0.39534884 | J33: 17.759102 | K33: 13.365844 | L33: - | M33: - | N33: - | O33: - | P33: 4.7162017 | Q33: 3.7292808 | R33: 0.26556533 | S33: 0.27901574 | T33: 0 | U33: 0.018704394
B34: Nubank | C34: ROXO34 | D34: Bancos | E34: Bernardo Guttmann | F34: Compra | G34: 18.6 | H34: 12.74 | I34: 0.4599686 | J34: 3.5322516 | K34: 2.6584409 | L34: - | M34: - | N34: - | O34: - | P34: 0.93804357 | Q34: 0.74174688 | R34: 0.26556533 | S34: 0.27901574 | T34: 0 | U34: 0.09404008
B35: PicPay | C35: PICS | D35: Bancos | E35: Bernardo Guttmann | F35: Compra | G35: 18 | H35: 13.77 | I35: 0.30718954 | J35: 9.1655262 | K35: 4.3061232 | L35: - | M35: - | N35: - | O35: - | P35: 1.2805909 | Q35: 0.98705285 | R35: 0.1397182 | S35: 0.22922076 | T35: 0 | U35: 0
B36: Santander | C36: SANB11 | D36: Bancos | E36: Bernardo Guttmann | F36: Compra | G36: 44 | H36: 28.13 | I36: 0.56416637 | J36: 6.000962 | K36: 5.3075123 | L36: - | M36: - | N36: - | O36: - | P36: 1.0262452 | Q36: 0.96119629 | R36: 0.17101346 | S36: 0.18110109 | T36: 0.10831597 | U36: 0.12246792
B37: Embraer | C37: EMBJ3 | D37: Bens de Capital | E37: Lucas Laghi | F37: Compra | G37: 116 | H37: 91.83 | I37: 0.26320375 | J37: 21.299893 | K37: 18.443931 | L37: 11.875895 | M37: 9.7583883 | N37: -0.14496875 | O37: -0.32872292 | P37: 3.2077771 | Q37: 2.9178355 | R37: 0.15060062 | S37: 0.15820031 | T37: 0.017201465 | U37: 0.024830497
B38: Frasle Mobility | C38: FRAS3 | D38: Bens de Capital | E38: Lucas Laghi | F38: Neutro | G38: 20 | H38: 29.3 | I38: -0.31740614 | J38: 25.528614 | K38: 19.519476 | L38: 9.1176648 | M38: 8.3015131 | N38: 1.1573487 | O38: 0.97709717 | P38: 3.1488036 | Q38: 2.986571 | R38: 0.12334409 | S38: 0.15300468 | T38: 0.024907963 | U38: 0.033979668
B39: Iochpe-Maxion | C39: MYPK3 | D39: Bens de Capital | E39: Lucas Laghi | F39: Compra | G39: 13 | H39: 11.71 | I39: 0.11016225 | J39: 6.3768941 | K39: 5.4442422 | L39: 3.4575868 | M39: 3.4288135 | N39: 2.34907 | O39: 2.3649888 | P39: 0.41246776 | Q39: 0.39367747 | R39: 0.064681607 | S39: 0.072310792 | T39: 0.066595324 | U39: 0.067961709
B40: Kepler Weber | C40: KEPL3 | D40: Bens de Capital | E40: Lucas Laghi | F40: Neutro | G40: 7 | H40: 7.55 | I40: -0.072847682 | J40: 18.594074 | K40: 13.775112 | L40: 9.2737773 | M40: 7.6069332 | N40: -0.34149771 | O40: -0.59296486 | P40: 1.5930627 | Q40: 1.4994097 | R40: 0.08567583 | S40: 0.10884918 | T40: 0.019534027 | U40: 0.033387232
B41: Marcopolo | C41: POMO4 | D41: Bens de Capital | E41: Lucas Laghi | F41: Neutro | G41: 5 | H41: 4.68 | I41: 0.068376068 | J41: 5.4279767 | K41: 5.9678081 | L41: 5.8976926 | M41: 5.5781349 | N41: 1.2452793 | O41: 1.1470266 | P41: 1.2580849 | Q41: 1.1381203 | R41: 0.23177788 | S41: 0.19070993 | T41: 0.0716459 | U41: 0.083782854
...

Sheet Operacional >>
O6: Acesse a tese do Itaú
O7: Acesse a tese do Banco do Brasil
O8: Acesse a tese do Banrisul
O9: Acesse a tese do Bradesco
O10: Acesse a tese do Santander
O11: Acesse a tese do BR Partners
O12: -
O13: 1
O14: Link para a
O15: tese completa
O16: Acesse a tese da BRF
O17: Acesse a tese da JBS
O18: Acesse a tese da Ambev
O19: Acesse a tese do Marfrig
O20: Acesse a tese de Jalles Machado
O21: Acesse a tese de São Martinho
O22: Acesse a tese de Boa Safra Sementes
O23: Acesse a tese de BrasilAgro
O24: -
O25: -
... O28: -
O29: 1
O30: Link para a
O31: Acesse a tese de WEG
O32: Acesse a tese da Aeris
O33: Acesse aqui a tese de Randon
O34: Acesse aqui a tese da Fras-Le
O35: Acesse aqui a tese de Tupy
O36: Acesse aqui a tese de Iochpe-Maxion
O37: Acesse aqui a tese da Marcopolo
O38: -
O39: -
O40: -
O41: 1
O42: Link para a
O43: tese completa
O44: Acesse a tese da Ânima
O45: Acesse a tese da Yduqs
O46: Acesse a tese da Cogna
O47: Acesse a tese da Ser
...

Sheet Operacional
B3: Companhia | C3: Ticker | D3: Setor | E3: Analista | F3: Recomendação | G3: Preço | H3: Preço | I3: % Upside | J3: Val. De Mercado | K3: NOSH | L3: Receita Liq (R$ M) | N3: EBITDA (R$ M) | P3: Lucro Líq (R$ M) | R3: NII (R$ M) | T3: LPA (R$ M)
G4: Alvo (R$) | H4: Atual (R$) | J4: (R$ B) | K4: 2023 | L4: 2026 | M4: 2027 | N4: 2026 | O4: 2027 | P4: 2026 | Q4: 2027 | R4: 2026 | S4: 2027 | T4: 2026 | U4: 2027
B5: =MATCH(B7,'[4]Operational Data'!$1:$1,0) -> 1 | C5: =MATCH(C7,'[4]Operational Data'!$1:$1,0) -> 2 | D5: =MATCH(D7,'[4]Operational Data'!$1:$1,0) -> 3 | E5: =MATCH(E7,'[4]Operational Data'!$1:$1,0) -> 4 | F5: =MATCH(F7,'[4]Operational Data'!$1:$1,0) -> 5 | G5: =MATCH(G7,'[4]Operational Data'!$1:$1,0) -> 9 | H5: =MATCH(H7,'[4]Operational Data'!$1:$1,0) -> 10 | I5: =MATCH(I7,'[4]Operational Data'!$1:$1,0) -> 11 | ... U5: =MATCH(U7,'[4]Operational Data'!$1:$1,0) -> 22
K6: NOSH | L6: NET_REV | M6: NET_REV | N6: EBITDA | O6: EBITDA | P6: NET_INCOME | Q6: NET_INCOME | R6: NET_INT_INCOME | S6: NET_INT_INCOME | T6: EPS | U6: EPS
B7: NAME | C7: TICKER | D7: SECTOR_XP | E7: LEAD_ANALYST | F7: RECOMMENDATION | G7: TARGET | H7: adj_close_price | I7: UPSIDE | J7: market_cap_company | K7: =K6&"_"&K4 -> NOSH_2023 | L7: =L6&"_"&L4 -> NET_REV_2026 | M7: =M6&"_"&M4 -> NET_REV_2027 | N7: =N6&"_"&N4 -> EBITDA_2026 | O7: =O6&"_"&O4 -> EBITDA_2027 | P7: =P6&"_"&P4 -> NET_INCOME_2026 | Q7: =Q6&"_"&Q4 -> NET_INCOME_2027 | R7: =R6&"_"&R4 -> NET_INT_INCOME_2026 | ... U7: =U6&"_"&U4 -> EPS_2027
A8: =_xlfn.CONCAT(C8," BZ Equity") -> TTEN3 BZ Equity | B8: 3tentos | C8: TTEN3 | D8: Agro | E8: Leonardo Alencar | F8: Compra | G8: 21.6 | H8: 13.69 | I8: 0.57779401 | J8: 6851.0297 | L8: 20712.849 | M8: 22591.043 | N8: 1620.5047 | O8: 1716.4438 | P8: 840.18264 | Q8: 951.36566 | R8: - | S8: - | T8: 1.6861048 | U8: 1.9092303
A9: =_xlfn.CONCAT(C9," BZ Equity") -> AGXY3 BZ Equity | B9: Agrogalaxy | C9: AGXY3 | D9: Agro | E9: Leonardo Alencar | F9: Sob Revisão | G9: - | H9: - | I9: - | J9: - | L9: - | M9: - | N9: - | O9: - | P9: - | Q9: - | R9: - | S9: - | T9: - | U9: -
A10: =_xlfn.CONCAT(C10," BZ Equity") -> SOJA3 BZ Equity | B10: Boa Safra | C10: SOJA3 | D10: Agro | E10: Leonardo Alencar | F10: Compra | G10: 11.8 | H10: 8.21 | I10: 0.43727162 | J10: 1158.1182 | L10: 2427.0622 | M10: 2566.4025 | N10: 231.00453 | O10: 254.44713 | P10: 86.931316 | Q10: 124.07241 | R10: - | S10: - | T10: 0.64240342 | U10: 0.91686801
A11: =_xlfn.CONCAT(C11," BZ Equity") -> AGRO3 BZ Equity | B11: BrasilAgro | C11: AGRO3 | D11: Agro | E11: Leonardo Alencar | F11: Neutro | G11: 22.5 | H11: 18.53 | I11: 0.21424717 | J11: 1845.8744 | L11: 1027.5695 | M11: 1111.4089 | N11: 133.4137 | O11: 189.38067 | P11: -3.0907113 | Q11: 4.1941165 | R11: - | S11: - | T11: -0.030099542 | U11: 0.040845286
A12: =_xlfn.CONCAT(C12," BZ Equity") -> JALL3 BZ Equity | B12: Jalles Machado | C12: JALL3 | D12: Agro | E12: Leonardo Alencar | F12: Compra | G12: 4.1 | H12: 2.98 | I12: 0.37583893 | J12: 898.61204 | L12: 2161.8013 | M12: 2410.8107 | N12: 1363.102 | O12: 1660.0155 | P12: 54.539488 | Q12: 251.35173 | R12: - | S12: - | T12: 0.17967691 | U12: 0.82806245
A13: =_xlfn.CONCAT(C13," BZ Equity") -> RAIZ4 BZ Equity | B13: Raizen | C13: RAIZ4 | D13: Agro | E13: Leonardo Alencar | F13: Sob Revisão | G13: - | H13: - | I13: - | J13: - | L13: - | M13: - | N13: - | O13: - | P13: - | Q13: - | R13: - | S13: - | T13: - | U13: -
A14: =_xlfn.CONCAT(C14," BZ Equity") -> SLCE3 BZ Equity | B14: SLC Agricola | C14: SLCE3 | D14: Agro | E14: Leonardo Alencar | F14: Neutro | G14: 18.7 | H14: 16.97 | I14: 0.10194461 | J14: 8422.4032 | L14: 10075.92 | M14: 10221.701 | N14: 2904.4673 | O14: 2765.7315 | P14: 663.89701 | Q14: 568.5984 | R14: - | S14: - | T14: 1.4975233 | U14: 1.2825624
A15: =_xlfn.CONCAT(C15," BZ Equity") -> SMTO3 BZ Equity | B15: São Martinho | C15: SMTO3 | D15: Agro | E15: Leonardo Alencar | F15: Compra | G15: 22.4 | H15: 20.85 | I15: 0.074340528 | J15: 6729.8231 | L15: 7431.765 | M15: 7826.9958 | N15: 3766.048 | O15: 4034.0399 | P15: 836.177 | Q15: 323.80653 | R15: - | S15: - | T15: 2.5906039 | U15: 1.003202
A16: =_xlfn.CONCAT(C16," BZ Equity") -> VITT3 BZ Equity | B16: Vittia | C16: VITT3 | D16: Agro | E16: Leonardo Alencar | F16: Compra | G16: 5.1 | H16: 3.67 | I16: 0.38964578 | J16: 575.57556 | L16: 888.43264 | M16: 957.57049 | N16: 109.64285 | O16: 123.86905 | P16: 33.205964 | Q16: 44.860661 | R16: - | S16: - | T16: 0.22540942 | U16: 0.30452408
A17: =_xlfn.CONCAT(C17," BZ Equity") -> ABEV3 BZ Equity | B17: Ambev | C17: ABEV3 | D17: Alimentos & Bebidas | E17: Leonardo Alencar | F17: Venda | G17: 13 | H17: 16.69 | I17: -0.22109047 | J17: 257907.15 | L17: 92998.422 | M17: 96544.205 | N17: 31557.579 | O17: 31161.774 | P17: 16147.368 | Q17: 15579.592 | R17: - | S17: - | T17: 1.0244492 | U17: 0.98842738
A18: =_xlfn.CONCAT(C18," BZ Equity") -> CAML3 BZ Equity | B18: Camil | C18: CAML3 | D18: Alimentos & Bebidas | E18: Leonardo Alencar | F18: Compra | G18: 8.3 | H18: 6.5 | I18: 0.27692308 | J18: 2216.963 | L18: 11124.817 | M18: 11815.913 | N18: 962.78435 | O18: 1021.6508 | P18: 41.918021 | Q18: 239.14919 | R18: - | S18: - | T18: 0.11976577 | U18: 0.6832834
A19: =_xlfn.CONCAT(C19," BZ Equity") -> JBS BZ Equity | B19: JBS | C19: JBS | D19: Alimentos & Bebidas | E19: Leonardo Alencar | F19: Compra | G19: 20.3 | H19: 12.47 | I19: 0.62790698 | J19: 13354.487 | L19: 92551.462 | M19: 94985.183 | N19: 5213.0484 | O19: 6093.3763 | P19: 545.50536 | Q19: 1196.7841 | R19: - | S19: - | T19: 0.50940064 | U19: 1.1175739
A20: =_xlfn.CONCAT(C20," BZ Equity") -> MDIA3 BZ Equity | B20: M. Dias Branco | C20: MDIA3 | D20: Alimentos & Bebidas | E20: Leonardo Alencar | F20: Neutro | G20: 25.5 | H20: 19.35 | I20: 0.31782946 | J20: 6493.3185 | L20: 10781.307 | M20: 11263.008 | N20: 1192.0384 | O20: 1288.2694 | P20: 708.55479 | Q20: 807.64517 | R20: - | S20: - | T20: 2.0901321 | U20: 2.3824341
A21: =_xlfn.CONCAT(C21," BZ Equity") -> MBRF3 BZ Equity | B21: MBRF | C21: MBRF3 | D21: Alimentos & Bebidas | E21: Leonardo Alencar | F21: Neutro | G21: 20.45 | H21: 18.81 | I21: 0.087187666 | J21: 25966.068 | L21: 165808.17 | M21: 171530.97 | N21: 12600.168 | O21: 13357.318 | P21: 86.861492 | Q21: 1820.3598 | R21: - | S21: - | T21: 0.061955415 | U21: 1.2984021
B22: Minerva | C22: BEEF3 | D22: Alimentos & Bebidas | E22: Leonardo Alencar | F22: Neutro | G22: 7.2 | H22: 4.29 | I22: 0.67832168 | J22: 4252.0014 | L22: 56798.233 | M22: 59263.989 | N22: 4713.8721 | O22: 4744.064 | P22: 1219.889 | Q22: 1077.7745 | R22: - | S22: - | T22: 1.0272286 | U22: 0.90755861
A23: =_xlfn.CONCAT(C23," BZ Equity") -> AGBK BZ Equity | B23: Agibank | C23: AGBK | D23: Bancos | E23: Bernardo Guttmann | F23: Compra | G23: 13 | H23: 7.34 | I23: 0.77111717 | J23: 1173.8867 | L23: 6102.8773 | M23: 7516.1009 | N23: - | O23: - | P23: 992.78059 | Q23: 1386.4439 | R23: 5500.9288 | S23: 6645.7916 | T23: 6.2075918 | U23: 8.6690631
A24: =_xlfn.CONCAT(C24," BZ Equity") -> BRBI11 BZ Equity | B24: BR Partners | C24: BRBI11 | D24: Bancos | E24: Bernardo Guttmann | F24: Compra | G24: 22 | H24: 18.64 | I24: 0.18025751 | J24: 1957.1199 | L24: 512.27725 | M24: 575.67516 | N24: - | O24: - | P24: 149.27218 | Q24: 181.05297 | R24: - | S24: - | T24: 1.421698 | U24: 1.7243845
B25: BTG Pactual | C25: BPAC11 | D25: Bancos | E25: Bernardo Guttmann | F25: Compra | G25: 63 | H25: 80.56 | I25: -0.21797418 | J25: 320887.98 | L25: 39192.944 | M25: 43510.238 | N25: - | O25: - | P25: 19944.292 | Q25: 22398.237 | R25: - | S25: - | T25: 5.2376042 | U25: 5.8820387
B26: Banco Mercantil do Brasil | C26: BMEB4 | D26: Bancos | E26: Bernardo Guttmann | F26: Compra | G26: 100 | H26: 82.26 | I26: 0.21565767 | J26: 8555.5939 | L26: 7528.9379 | M26: 8703.9078 | N26: - | O26: - | P26: 1148.9833 | Q26: 1481.6942 | R26: 6020.0717 | S26: 6819.6926 | T26: 9.3125474 | U26: 12.00918
B27: Banco Pine | C27: PINE4 | D27: Bancos | E27: Bernardo Guttmann | F27: Compra | G27: 20 | H27: 17.71 | I27: 0.12930548 | J27: 4146.1625 | L27: 2179.3719 | M27: 2530.312 | N27: - | O27: - | P27: 685.44413 | Q27: 822.724 | R27: 2811.202 | S27: 3276.1667 | T27: 2.9487639 | U27: 3.5393385
A28: =_xlfn.CONCAT(C28," BZ Equity") -> BBAS3 BZ Equity | B28: Banco do Brasil | C28: BBAS3 | D28: Bancos | E28: Bernardo Guttmann | F28: Neutro | G28: 21 | H28: 24.1 | I28: -0.12863071 | J28: 137586.21 | L28: 255535.94 | M28: 241245.1 | N28: - | O28: - | P28: 16912.487 | Q28: 23713.533 | R28: 110849.97 | S28: 112772.57 | T28: 2.9511389 | U28: 4.1378851
A29: =_xlfn.CONCAT(C29," BZ Equity") -> BBDC4 BZ Equity | B29: Bradesco | C29: BBDC4 | D29: Bancos | E29: Bernardo Guttmann | F29: Neutro | G29: 21 | H29: 20.65 | I29: 0.016949153 | J29: 217871.2 | L29: 152659.3 | M29: 166242.88 | N29: - | O29: - | P29: 28220.832 | Q29: 31177.697 | R29: 85013.327 | S29: 95013.474 | T29: 2.6697191 | U29: 2.9494415
B30: Inter | C30: INBR32 | D30: Bancos | E30: Bernardo Guttmann | F30: Neutro | G30: 45 | H30: - | I30: - | J30: - | L30: 9934.6985 | M30: 11063.08 | N30: - | O30: - | P30: 1790.4808 | Q30: 2030.1432 | R30: 7283.3528 | S30: 8050.8088 | T30: 4.0688962 | U30: 4.6135327
A31: =_xlfn.CONCAT(C31," BZ Equity") -> ITUB4 BZ Equity | B31: Itaú Unibanco | C31: ITUB4 | D31: Bancos | E31: Bernardo Guttmann | F31: Compra | G31: 50 | H31: 48.9 | I31: 0.022494888 | J31: 563743.79 | L31: 196028.66 | M31: 209826.45 | N31: - | O31: - | P31: 50922.352 | Q31: 56028.466 | R31: 136527.69 | S31: 147718.68 | T31: 4.618169 | U31: 5.0812446
B32: Nubank | C32: NU | D32: Bancos | E32: Bernardo Guttmann | F32: Compra | G32: 21 | H32: 15.05 | I32: 0.39534884 | J32: 72701.864 | L32: 14893.218 | M32: 19036.401 | N32: - | O32: - | P32: 4093.7805 | Q32: 5439.3772 | R32: 12054.413 | S32: 15557.415 | T32: 0.83421375 | U32: 1.1084139
B33: Nubank | C33: ROXO34 | D33: Bancos | E33: Bernardo Guttmann | F33: Compra | G33: 18.6 | H33: 12.74 | I33: 0.4599686 | J33: 72701.864 | L33: 14893.218 | M33: 19036.401 | N33: - | O33: - | P33: 4093.7805 | Q33: 5439.3772 | R33: 12054.413 | S33: 15557.415 | T33: 0.83421375 | U33: 1.1084139
A34: =_xlfn.CONCAT(C34," BZ Equity") -> PICS BZ Equity | B34: PicPay | C34: PICS | D34: Bancos | E34: Bernardo Guttmann | F34: Compra | G34: 18 | H34: 13.77 | I34: 0.30718954 | J34: 1750.7277 | L34: 11955.003 | M34: 16717.495 | N34: - | O34: - | P34: 960.35224 | Q34: 2044.097 | R34: 7910.3735 | S34: 11420.96 | T34: 7.4108377 | U34: 15.77387
B35: Santander | C35: SANB11 | D35: Bancos | E35: Bernardo Guttmann | F35: Compra | G35: 44 | H35: 28.13 | I35: 0.56416637 | J35: 104410.09 | L35: 90835.175 | M35: 97878.875 | N35: - | O35: - | P35: 17398.893 | Q35: 19672.134 | R35: 67929.383 | S35: 73799.144 | T35: 4.6575898 | U35: 5.2661242
B36: Embraer | C36: EMBJ3 | D36: Bens de Capital | E36: Lucas Laghi | F36: Compra | G36: 116 | H36: 91.83 | I36: 0.26320375 | J36: 65367.624 | L36: 8537.4348 | M36: 9525.4058 | N36: 1126.1775 | O36: 1288.9217 | P36: 610.40198 | Q36: 704.92005 | R36: - | S36: - | T36: 0.85750728 | U36: 0.99028853
B37: Frasle Mobility | C37: FRAS3 | D37: Bens de Capital | E37: Lucas Laghi | F37: Neutro | G37: 20 | H37: 29.3 | I37: -0.31740614 | J37: 8125.9155 | L37: 5518.7559 | M37: 5910.8078 | N37: 1020.7723 | O37: 1109.4285 | P37: 318.30618 | Q37: 416.29784 | R37: - | S37: - | T37: 1.1602828 | U37: 1.5174799
B38: Iochpe-Maxion | C38: MYPK3 | D38: Bens de Capital | E38: Lucas Laghi | F38: Compra | G38: 13 | H38: 11.71 | I38: 0.11016225 | J38: 1753.8067 | L38: 15430.905 | M38: 16097.403 | N38: 1582.1201 | O38: 1648.5861 | P38: 275.02522 | Q38: 322.13973 | R38: - | S38: - | T38: 1.8363171 | U38: 2.1508962
B39: Kepler Weber | C39: KEPL3 | D39: Bens de Capital | E39: Lucas Laghi | F39: Neutro | G39: 7 | H39: 7.55 | I39: -0.072847682 | J39: 1308.0979 | L39: 1398.3043 | M39: 1463.6235 | N39: 136.04373 | O39: 159.52612 | P39: 70.350259 | Q39: 94.960964 | R39: - | S39: - | T39: 0.40604417 | U39: 0.54809103
B40: Marcopolo | C40: POMO4 | D40: Bens de Capital | E40: Lucas Laghi | F40: Neutro | G40: 5 | H40: 4.68 | I40: 0.068376068 | J40: 5669.9604 | L40: 8980.6579 | M40: 9262.0898 | N40: 1341.0253 | O40: 1381.9181 | P40: 1044.5808 | Q40: 950.09093 | R40: - | S40: - | T40: 0.84149499 | U40: 0.76537567
A41: =_xlfn.CONCAT(C41," BZ Equity") -> RAPT4 BZ Equity | B41: Randoncorp | C41: RAPT4 | D41: Bens de Capital | E41: Lucas Laghi | F41: Neutro | G41: 5 | H41: 8.02 | I41: -0.3765586 | J41: 3152.6106 | L41: 13202.962 | M41: 14364.566 | N41: 1711.9517 | O41: 2011.6319 | P41: 27.431427 | Q41: 229.82736 | R41: - | S41: - | T41: 0.078670407 | U41: 0.65912035
A42: =_xlfn.CONCAT(C42," BZ Equity") -> TUPY3 BZ Equity | B42: Tupy | C42: TUPY3 | D42: Bens de Capital | E42: Lucas Laghi | F42: Compra | G42: 20 | H42: 20.58 | I42: -0.028182702 | J42: 2697.647 | L42: 10201.346 | M42: 10968.003 | N42: 676.19027 | O42: 886.89872 | P42: 102.31309 | Q42: 265.25105 | R42: - | S42: - | T42: 0.78028246 | U42: 2.0229155
...

Sheet Screenings
A3: - | H3: Target | I3: EV | J3: Mkt cap | K3: Dividends | L3: Dividends | M3: Equity | N3: Equity | O3: NET DEBT | P3: NET DEBT | Q3: Net Income | S3: EBITDA | U3: P/E | W3: P/VP | Y3: EV/EBITDA | AA3: Net Debt/EBITDA | AC3: DY | AE3: ROE
A4: Company | B4: Ticker | C4: Sector | D4: Analyst | E4: Recommendation | F4: Restricted | H4: price | I4: (BRL B) | J4: (BRL B) | K4: 2023 | L4: 2024 | M4: 2023 | N4: 2024 | O4: 2023 | P4: 2024 | Q4: 2023 | R4: 2024 | S4: 2023 | T4: 2024 | U4: 2023 | V4: 2024 | W4: 2023 | X4: 2024 | Y4: 2023 | Z4: 2024 | AA4: 2023 | AB4: 2024 | AC4: 2023 | AD4: 2024 | AE4: 2023 | AF4: 2024
K5: DIVIDENDS | L5: DIVIDENDS | M5: SHAREHOLDERS_EQUITY | N5: SHAREHOLDERS_EQUITY | O5: NET_DEBT | P5: NET_DEBT | Q5: NET_INCOME | R5: NET_INCOME | S5: EBITDA | T5: EBITDA | U5: P_E | V5: P_E | W5: P_VP | X5: P_VP | Y5: EV_EBITDA | Z5: EV_EBITDA | AA5: NET DEBT_EBITDA | AB5: NET DEBT_EBITDA | AC5: DY | AD5: DY | AE5: ROE | AF5: ROE
A6: NAME | B6: TICKER | C6: SECTOR_XP | D6: LEAD_ANALYST | E6: RECOMMENDATION | F6: RESTRICTED | G6: CURRENCY | H6: TARGET | K6: =K5&"_"&K4 -> DIVIDENDS_2023 | L6: =L5&"_"&L4 -> DIVIDENDS_2024 | M6: =M5&"_"&M4 -> SHAREHOLDERS_EQUITY_2023 | N6: =N5&"_"&N4 -> SHAREHOLDERS_EQUITY_2024 | O6: =O5&"_"&O4 -> NET_DEBT_2023 | P6: =P5&"_"&P4 -> NET_DEBT_2024 | Q6: =Q5&"_"&Q4 -> NET_INCOME_2023 | R6: =R5&"_"&R4 -> NET_INCOME_2024 | ... AF6: =AF5&"_"&AF4 -> ROE_2024
A7: =INDEX([5]Sheet1!$1:$1048576,MATCH($B7,[5]Sheet1!$A:$A,0),MATCH(A$6,[5]Sheet1!$1:$1,0)) -> #N/A | B7: BRML3 | C7: =INDEX([5]Sheet1!$1:$1048576,MATCH($B7,[5]Sheet1!$A:$A,0),MATCH(C$6,[5]Sheet1!$1:$1,0)) -> #N/A | D7: =INDEX([5]Sheet1!$1:$1048576,MATCH($B7,[5]Sheet1!$A:$A,0),MATCH(D$6,[5]Sheet1!$1:$1,0)) -> #N/A | E7: =INDEX([5]Sheet1!$1:$1048576,MATCH($B7,[5]Sheet1!$A:$A,0),MATCH(E$6,[5]Sheet1!$1:$1,0)) -> #N/A | F7: =INDEX([5]Sheet1!$1:$1048576,MATCH($B7,[5]Sheet1!$A:$A,0),MATCH(F$6,[5]Sheet1!$1:$1,0)) -> #N/A | G7: =INDEX([5]Sheet1!$1:$1048576,MATCH($B7,[5]Sheet1!$A:$A,0),MATCH(G$6,[5]Sheet1!$1:$1,0)) -> #N/A | H7: =INDEX([5]Sheet1!$1:$1048576,MATCH($B7,[5]Sheet1!$A:$A,0),MATCH(H$6,[5]Sheet1!$1:$1,0)) -> #N/A | I7: {=IFERROR((_xll.ECONOMATICA($B7,"EV")/1000000) / IF($G7="USD",Aux!$B$1,1),"")} | J7: {=IFERROR((_xll.ECONOMATICA($B7,"MarketCapitaliz")/1000000) / IF($G7="USD",Aux!$B$1,1),"")} | K7: =ABS(INDEX([5]Sheet1!$1:$1048576,MATCH($B7,[5]Sheet1!$A:$A,0),MATCH(K$6,[5]Sheet1!$1:$1,0))) -> #N/A | L7: =ABS(INDEX([5]Sheet1!$1:$1048576,MATCH($B7,[5]Sheet1!$A:$A,0),MATCH(L$6,[5]Sheet1!$1:$1,0))) -> #N/A | M7: =ABS(INDEX([5]Sheet1!$1:$1048576,MATCH($B7,[5]Sheet1!$A:$A,0),MATCH(M$6,[5]Sheet1!$1:$1,0))) -> #N/A | N7: =ABS(INDEX([5]Sheet1!$1:$1048576,MATCH($B7,[5]Sheet1!$A:$A,0),MATCH(N$6,[5]Sheet1!$1:$1,0))) -> #N/A | O7: =ABS(INDEX([5]Sheet1!$1:$1048576,MATCH($B7,[5]Sheet1!$A:$A,0),MATCH(O$6,[5]Sheet1!$1:$1,0))) -> #N/A | P7: =ABS(INDEX([5]Sheet1!$1:$1048576,MATCH($B7,[5]Sheet1!$A:$A,0),MATCH(P$6,[5]Sheet1!$1:$1,0))) -> #N/A | Q7: =INDEX([5]Sheet1!$1:$1048576,MATCH($B7,[5]Sheet1!$A:$A,0),MATCH(Q$6,[5]Sheet1!$1:$1,0)) -> #N/A | R7: =INDEX([5]Sheet1!$1:$1048576,MATCH($B7,[5]Sheet1!$A:$A,0),MATCH(R$6,[5]Sheet1!$1:$1,0)) -> #N/A | S7: =INDEX([5]Sheet1!$1:$1048576,MATCH($B7,[5]Sheet1!$A:$A,0),MATCH(S$6,[5]Sheet1!$1:$1,0)) -> #N/A | T7: =INDEX([5]Sheet1!$1:$1048576,MATCH($B7,[5]Sheet1!$A:$A,0),MATCH(T$6,[5]Sheet1!$1:$1,0)) -> #N/A | Y7: =IFERROR($I7/S7,"") | Z7: =IFERROR($I7/T7,"") | AC7: =IFERROR($K7/J7,"") | AE7: =IFERROR($Q7/$M7,"-") -> - | AF7: =IFERROR($R7/$N7,"-") -> -
A8: =INDEX([5]Sheet1!$1:$1048576,MATCH($B8,[5]Sheet1!$A:$A,0),MATCH(A$6,[5]Sheet1!$1:$1,0)) -> Americanas | B8: AMER3 | C8: =INDEX([5]Sheet1!$1:$1048576,MATCH($B8,[5]Sheet1!$A:$A,0),MATCH(C$6,[5]Sheet1!$1:$1,0)) -> Retail | D8: =INDEX([5]Sheet1!$1:$1048576,MATCH($B8,[5]Sheet1!$A:$A,0),MATCH(D$6,[5]Sheet1!$1:$1,0)) -> Pedro Caravina | E8: =INDEX([5]Sheet1!$1:$1048576,MATCH($B8,[5]Sheet1!$A:$A,0),MATCH(E$6,[5]Sheet1!$1:$1,0)) -> Under Review | F8: =INDEX([5]Sheet1!$1:$1048576,MATCH($B8,[5]Sheet1!$A:$A,0),MATCH(F$6,[5]Sheet1!$1:$1,0)) -> FALSE | G8: =INDEX([5]Sheet1!$1:$1048576,MATCH($B8,[5]Sheet1!$A:$A,0),MATCH(G$6,[5]Sheet1!$1:$1,0)) -> #N/A | H8: =INDEX([5]Sheet1!$1:$1048576,MATCH($B8,[5]Sheet1!$A:$A,0),MATCH(H$6,[5]Sheet1!$1:$1,0)) -> 20 | I8: {=IFERROR((_xll.ECONOMATICA($B8,"EV")/1000000) / IF($G8="USD",Aux!$B$1,1),"")} | J8: {=IFERROR((_xll.ECONOMATICA($B8,"MarketCapitaliz")/1000000) / IF($G8="USD",Aux!$B$1,1),"")} | K8: =ABS(INDEX([5]Sheet1!$1:$1048576,MATCH($B8,[5]Sheet1!$A:$A,0),MATCH(K$6,[5]Sheet1!$1:$1,0))) -> 2380 | L8: =ABS(INDEX([5]Sheet1!$1:$1048576,MATCH($B8,[5]Sheet1!$A:$A,0),MATCH(L$6,[5]Sheet1!$1:$1,0))) -> 3635.0643 | M8: =ABS(INDEX([5]Sheet1!$1:$1048576,MATCH($B8,[5]Sheet1!$A:$A,0),MATCH(M$6,[5]Sheet1!$1:$1,0))) -> 15761.842 | N8: =ABS(INDEX([5]Sheet1!$1:$1048576,MATCH($B8,[5]Sheet1!$A:$A,0),MATCH(N$6,[5]Sheet1!$1:$1,0))) -> 16650.275 | O8: =ABS(INDEX([5]Sheet1!$1:$1048576,MATCH($B8,[5]Sheet1!$A:$A,0),MATCH(O$6,[5]Sheet1!$1:$1,0))) -> 10062.591 | P8: =ABS(INDEX([5]Sheet1!$1:$1048576,MATCH($B8,[5]Sheet1!$A:$A,0),MATCH(P$6,[5]Sheet1!$1:$1,0))) -> 10575.491 | Q8: =INDEX([5]Sheet1!$1:$1048576,MATCH($B8,[5]Sheet1!$A:$A,0),MATCH(Q$6,[5]Sheet1!$1:$1,0)) -> 715.48685 | R8: =INDEX([5]Sheet1!$1:$1048576,MATCH($B8,[5]Sheet1!$A:$A,0),MATCH(R$6,[5]Sheet1!$1:$1,0)) -> 1154.43 | S8: =INDEX([5]Sheet1!$1:$1048576,MATCH($B8,[5]Sheet1!$A:$A,0),MATCH(S$6,[5]Sheet1!$1:$1,0)) -> 4913.5607 | T8: =INDEX([5]Sheet1!$1:$1048576,MATCH($B8,[5]Sheet1!$A:$A,0),MATCH(T$6,[5]Sheet1!$1:$1,0)) -> 5517.0587 | U8: =IFERROR((J8/Q8),"-") -> - | V8: =IFERROR((J8/R8),"-") -> - | W8: =IFERROR(J8/M8,"-") -> - | X8: =IFERROR(J8/N8,"-") -> - | Y8: =IFERROR($I8/S8,"-") -> - | Z8: =IFERROR($I8/T8,"-") -> - | AA8: =IFERROR(O8/S8,"-") -> 2.0479224 | AB8: =IFERROR(P8/T8,"-") -> 1.9168711 | AC8: =IFERROR($K8/J8,"") | AD8: =IFERROR($L8/J8,"") | AE8: =IFERROR($Q8/$M8,"-") -> 0.045393605 | AF8: =IFERROR($R8/$N8,"-") -> 0.06933399
A9: =INDEX([5]Sheet1!$1:$1048576,MATCH($B9,[5]Sheet1!$A:$A,0),MATCH(A$6,[5]Sheet1!$1:$1,0)) -> Petrobras | B9: PETR4 | C9: =INDEX([5]Sheet1!$1:$1048576,MATCH($B9,[5]Sheet1!$A:$A,0),MATCH(C$6,[5]Sheet1!$1:$1,0)) -> Oil, Gas & Petrochemicals | D9: =INDEX([5]Sheet1!$1:$1048576,MATCH($B9,[5]Sheet1!$A:$A,0),MATCH(D$6,[5]Sheet1!$1:$1,0)) -> Regis Cardoso | E9: =INDEX([5]Sheet1!$1:$1048576,MATCH($B9,[5]Sheet1!$A:$A,0),MATCH(E$6,[5]Sheet1!$1:$1,0)) -> Buy | F9: =INDEX([5]Sheet1!$1:$1048576,MATCH($B9,[5]Sheet1!$A:$A,0),MATCH(F$6,[5]Sheet1!$1:$1,0)) -> FALSE | G9: =INDEX([5]Sheet1!$1:$1048576,MATCH($B9,[5]Sheet1!$A:$A,0),MATCH(G$6,[5]Sheet1!$1:$1,0)) -> #N/A | H9: =INDEX([5]Sheet1!$1:$1048576,MATCH($B9,[5]Sheet1!$A:$A,0),MATCH(H$6,[5]Sheet1!$1:$1,0)) -> 63 | I9: {=IFERROR((_xll.ECONOMATICA($B9,"EV")/1000000) / IF($G9="USD",Aux!$B$1,1),"")} | J9: {=IFERROR((_xll.ECONOMATICA($B9,"MarketCapitaliz")/1000000) / IF($G9="USD",Aux!$B$1,1),"")} | K9: =ABS(INDEX([5]Sheet1!$1:$1048576,MATCH($B9,[5]Sheet1!$A:$A,0),MATCH(K$6,[5]Sheet1!$1:$1,0))) -> 19670 | L9: =ABS(INDEX([5]Sheet1!$1:$1048576,MATCH($B9,[5]Sheet1!$A:$A,0),MATCH(L$6,[5]Sheet1!$1:$1,0))) -> 18327 | M9: =ABS(INDEX([5]Sheet1!$1:$1048576,MATCH($B9,[5]Sheet1!$A:$A,0),MATCH(M$6,[5]Sheet1!$1:$1,0))) -> 78975 | N9: =ABS(INDEX([5]Sheet1!$1:$1048576,MATCH($B9,[5]Sheet1!$A:$A,0),MATCH(N$6,[5]Sheet1!$1:$1,0))) -> 59350 | O9: =ABS(INDEX([5]Sheet1!$1:$1048576,MATCH($B9,[5]Sheet1!$A:$A,0),MATCH(O$6,[5]Sheet1!$1:$1,0))) -> 44645 | P9: =ABS(INDEX([5]Sheet1!$1:$1048576,MATCH($B9,[5]Sheet1!$A:$A,0),MATCH(P$6,[5]Sheet1!$1:$1,0))) -> 52195 | Q9: =INDEX([5]Sheet1!$1:$1048576,MATCH($B9,[5]Sheet1!$A:$A,0),MATCH(Q$6,[5]Sheet1!$1:$1,0)) -> 24995 | R9: =INDEX([5]Sheet1!$1:$1048576,MATCH($B9,[5]Sheet1!$A:$A,0),MATCH(R$6,[5]Sheet1!$1:$1,0)) -> 7605 | S9: =INDEX([5]Sheet1!$1:$1048576,MATCH($B9,[5]Sheet1!$A:$A,0),MATCH(S$6,[5]Sheet1!$1:$1,0)) -> 52414 | T9: =INDEX([5]Sheet1!$1:$1048576,MATCH($B9,[5]Sheet1!$A:$A,0),MATCH(T$6,[5]Sheet1!$1:$1,0)) -> 40399 | U9: =IFERROR((J9/Q9),"-") -> - | V9: =IFERROR((J9/R9),"-") -> - | W9: =IFERROR(J9/M9,"-") -> - | X9: =IFERROR(J9/N9,"-") -> - | Y9: =IFERROR($I9/S9,"-") -> - | Z9: =IFERROR($I9/T9,"-") -> - | AA9: =IFERROR(O9/S9,"-") -> 0.85177624 | AB9: =IFERROR(P9/T9,"-") -> 1.2919874 | AC9: =IFERROR($K9/J9,"") | AD9: =IFERROR($L9/J9,"") | AE9: =IFERROR($Q9/$M9,"-") -> 0.31649256 | AF9: =IFERROR($R9/$N9,"-") -> 0.12813816
A10: =INDEX([5]Sheet1!$1:$1048576,MATCH($B10,[5]Sheet1!$A:$A,0),MATCH(A$6,[5]Sheet1!$1:$1,0)) -> Even | B10: EVEN3 | C10: =INDEX([5]Sheet1!$1:$1048576,MATCH($B10,[5]Sheet1!$A:$A,0),MATCH(C$6,[5]Sheet1!$1:$1,0)) -> Homebuilders | D10: =INDEX([5]Sheet1!$1:$1048576,MATCH($B10,[5]Sheet1!$A:$A,0),MATCH(D$6,[5]Sheet1!$1:$1,0)) -> Ygor Altero | E10: =INDEX([5]Sheet1!$1:$1048576,MATCH($B10,[5]Sheet1!$A:$A,0),MATCH(E$6,[5]Sheet1!$1:$1,0)) -> Buy | F10: =INDEX([5]Sheet1!$1:$1048576,MATCH($B10,[5]Sheet1!$A:$A,0),MATCH(F$6,[5]Sheet1!$1:$1,0)) -> FALSE | G10: =INDEX([5]Sheet1!$1:$1048576,MATCH($B10,[5]Sheet1!$A:$A,0),MATCH(G$6,[5]Sheet1!$1:$1,0)) -> #N/A | H10: =INDEX([5]Sheet1!$1:$1048576,MATCH($B10,[5]Sheet1!$A:$A,0),MATCH(H$6,[5]Sheet1!$1:$1,0)) -> 6 | I10: {=IFERROR((_xll.ECONOMATICA($B10,"EV")/1000000) / IF($G10="USD",Aux!$B$1,1),"")} | J10: {=IFERROR((_xll.ECONOMATICA($B10,"MarketCapitaliz")/1000000) / IF($G10="USD",Aux!$B$1,1),"")} | K10: =ABS(INDEX([5]Sheet1!$1:$1048576,MATCH($B10,[5]Sheet1!$A:$A,0),MATCH(K$6,[5]Sheet1!$1:$1,0))) -> 81 | L10: =ABS(INDEX([5]Sheet1!$1:$1048576,MATCH($B10,[5]Sheet1!$A:$A,0),MATCH(L$6,[5]Sheet1!$1:$1,0))) -> 229.5425 | M10: =ABS(INDEX([5]Sheet1!$1:$1048576,MATCH($B10,[5]Sheet1!$A:$A,0),MATCH(M$6,[5]Sheet1!$1:$1,0))) -> 1485.7757 | N10: =ABS(INDEX([5]Sheet1!$1:$1048576,MATCH($B10,[5]Sheet1!$A:$A,0),MATCH(N$6,[5]Sheet1!$1:$1,0))) -> 1799.389 | O10: =ABS(INDEX([5]Sheet1!$1:$1048576,MATCH($B10,[5]Sheet1!$A:$A,0),MATCH(O$6,[5]Sheet1!$1:$1,0))) -> 508.32947 | P10: =ABS(INDEX([5]Sheet1!$1:$1048576,MATCH($B10,[5]Sheet1!$A:$A,0),MATCH(P$6,[5]Sheet1!$1:$1,0))) -> 412.115 | Q10: =INDEX([5]Sheet1!$1:$1048576,MATCH($B10,[5]Sheet1!$A:$A,0),MATCH(Q$6,[5]Sheet1!$1:$1,0)) -> 173.71661 | R10: =INDEX([5]Sheet1!$1:$1048576,MATCH($B10,[5]Sheet1!$A:$A,0),MATCH(R$6,[5]Sheet1!$1:$1,0)) -> 149.56793 | S10: =INDEX([5]Sheet1!$1:$1048576,MATCH($B10,[5]Sheet1!$A:$A,0),MATCH(S$6,[5]Sheet1!$1:$1,0)) -> 205.73808 | T10: =INDEX([5]Sheet1!$1:$1048576,MATCH($B10,[5]Sheet1!$A:$A,0),MATCH(T$6,[5]Sheet1!$1:$1,0)) -> 228.19117 | U10: =IFERROR((J10/Q10),"-") -> - | V10: =IFERROR((J10/R10),"-") -> - | W10: =IFERROR(J10/M10,"-") -> - | X10: =IFERROR(J10/N10,"-") -> - | Y10: =IFERROR($I10/S10,"-") -> - | Z10: =IFERROR($I10/T10,"-") -> - | AA10: =IFERROR(O10/S10,"-") -> 2.4707602 | AB10: =IFERROR(P10/T10,"-") -> 1.8060077 | AC10: =IFERROR($K10/J10,"") | AD10: =IFERROR($L10/J10,"") | AE10: =IFERROR($Q10/$M10,"-") -> 0.11691981 | AF10: =IFERROR($R10/$N10,"-") -> 0.083121509
A11: =INDEX([5]Sheet1!$1:$1048576,MATCH($B11,[5]Sheet1!$A:$A,0),MATCH(A$6,[5]Sheet1!$1:$1,0)) -> EZTec | B11: EZTC3 | C11: =INDEX([5]Sheet1!$1:$1048576,MATCH($B11,[5]Sheet1!$A:$A,0),MATCH(C$6,[5]Sheet1!$1:$1,0)) -> Homebuilders | D11: =INDEX([5]Sheet1!$1:$1048576,MATCH($B11,[5]Sheet1!$A:$A,0),MATCH(D$6,[5]Sheet1!$1:$1,0)) -> Ygor Altero | E11: =INDEX([5]Sheet1!$1:$1048576,MATCH($B11,[5]Sheet1!$A:$A,0),MATCH(E$6,[5]Sheet1!$1:$1,0)) -> Neutral | F11: =INDEX([5]Sheet1!$1:$1048576,MATCH($B11,[5]Sheet1!$A:$A,0),MATCH(F$6,[5]Sheet1!$1:$1,0)) -> FALSE | G11: =INDEX([5]Sheet1!$1:$1048576,MATCH($B11,[5]Sheet1!$A:$A,0),MATCH(G$6,[5]Sheet1!$1:$1,0)) -> #N/A | H11: =INDEX([5]Sheet1!$1:$1048576,MATCH($B11,[5]Sheet1!$A:$A,0),MATCH(H$6,[5]Sheet1!$1:$1,0)) -> 16 | I11: {=IFERROR((_xll.ECONOMATICA($B11,"EV")/1000000) / IF($G11="USD",Aux!$B$1,1),"")} | J11: {=IFERROR((_xll.ECONOMATICA($B11,"MarketCapitaliz")/1000000) / IF($G11="USD",Aux!$B$1,1),"")} | K11: =ABS(INDEX([5]Sheet1!$1:$1048576,MATCH($B11,[5]Sheet1!$A:$A,0),MATCH(K$6,[5]Sheet1!$1:$1,0))) -> 44.692383 | L11: =ABS(INDEX([5]Sheet1!$1:$1048576,MATCH($B11,[5]Sheet1!$A:$A,0),MATCH(L$6,[5]Sheet1!$1:$1,0))) -> 235.67948 | M11: =ABS(INDEX([5]Sheet1!$1:$1048576,MATCH($B11,[5]Sheet1!$A:$A,0),MATCH(M$6,[5]Sheet1!$1:$1,0))) -> 4645.827 | N11: =ABS(INDEX([5]Sheet1!$1:$1048576,MATCH($B11,[5]Sheet1!$A:$A,0),MATCH(N$6,[5]Sheet1!$1:$1,0))) -> 4804.338 | O11: =ABS(INDEX([5]Sheet1!$1:$1048576,MATCH($B11,[5]Sheet1!$A:$A,0),MATCH(O$6,[5]Sheet1!$1:$1,0))) -> 93.895 | P11: =ABS(INDEX([5]Sheet1!$1:$1048576,MATCH($B11,[5]Sheet1!$A:$A,0),MATCH(P$6,[5]Sheet1!$1:$1,0))) -> 365.95 | Q11: =INDEX([5]Sheet1!$1:$1048576,MATCH($B11,[5]Sheet1!$A:$A,0),MATCH(Q$6,[5]Sheet1!$1:$1,0)) -> 239.467 | R11: =INDEX([5]Sheet1!$1:$1048576,MATCH($B11,[5]Sheet1!$A:$A,0),MATCH(R$6,[5]Sheet1!$1:$1,0)) -> 404.609 | S11: =INDEX([5]Sheet1!$1:$1048576,MATCH($B11,[5]Sheet1!$A:$A,0),MATCH(S$6,[5]Sheet1!$1:$1,0)) -> 193.599 | T11: =INDEX([5]Sheet1!$1:$1048576,MATCH($B11,[5]Sheet1!$A:$A,0),MATCH(T$6,[5]Sheet1!$1:$1,0)) -> 339.625 | U11: =IFERROR((J11/Q11),"-") -> - | V11: =IFERROR((J11/R11),"-") -> - | W11: =IFERROR(J11/M11,"-") -> - | X11: =IFERROR(J11/N11,"-") -> - | Y11: =IFERROR($I11/S11,"-") -> - | Z11: =IFERROR($I11/T11,"-") -> - | AA11: =IFERROR(O11/S11,"-") -> 0.48499734 | AB11: =IFERROR(P11/T11,"-") -> 1.077512 | AC11: =IFERROR($K11/J11,"") | AD11: =IFERROR($L11/J11,"") | AE11: =IFERROR($Q11/$M11,"-") -> 0.051544537 | AF11: =IFERROR($R11/$N11,"-") -> 0.08421743
A12: =INDEX([5]Sheet1!$1:$1048576,MATCH($B12,[5]Sheet1!$A:$A,0),MATCH(A$6,[5]Sheet1!$1:$1,0)) -> Engie Brasil | B12: EGIE3 | C12: =INDEX([5]Sheet1!$1:$1048576,MATCH($B12,[5]Sheet1!$A:$A,0),MATCH(C$6,[5]Sheet1!$1:$1,0)) -> Utilities & Energy | D12: =INDEX([5]Sheet1!$1:$1048576,MATCH($B12,[5]Sheet1!$A:$A,0),MATCH(D$6,[5]Sheet1!$1:$1,0)) -> Raul Cavendish | E12: =INDEX([5]Sheet1!$1:$1048576,MATCH($B12,[5]Sheet1!$A:$A,0),MATCH(E$6,[5]Sheet1!$1:$1,0)) -> Neutral | F12: =INDEX([5]Sheet1!$1:$1048576,MATCH($B12,[5]Sheet1!$A:$A,0),MATCH(F$6,[5]Sheet1!$1:$1,0)) -> FALSE | G12: =INDEX([5]Sheet1!$1:$1048576,MATCH($B12,[5]Sheet1!$A:$A,0),MATCH(G$6,[5]Sheet1!$1:$1,0)) -> #N/A | H12: =INDEX([5]Sheet1!$1:$1048576,MATCH($B12,[5]Sheet1!$A:$A,0),MATCH(H$6,[5]Sheet1!$1:$1,0)) -> 31.48433 | I12: {=IFERROR((_xll.ECONOMATICA($B12,"EV")/1000000) / IF($G12="USD",Aux!$B$1,1),"")} | J12: {=IFERROR((_xll.ECONOMATICA($B12,"MarketCapitaliz")/1000000) / IF($G12="USD",Aux!$B$1,1),"")} | K12: =ABS(INDEX([5]Sheet1!$1:$1048576,MATCH($B12,[5]Sheet1!$A:$A,0),MATCH(K$6,[5]Sheet1!$1:$1,0))) -> 1811.1946 | L12: =ABS(INDEX([5]Sheet1!$1:$1048576,MATCH($B12,[5]Sheet1!$A:$A,0),MATCH(L$6,[5]Sheet1!$1:$1,0))) -> 2260.6089 | M12: =ABS(INDEX([5]Sheet1!$1:$1048576,MATCH($B12,[5]Sheet1!$A:$A,0),MATCH(M$6,[5]Sheet1!$1:$1,0))) -> 9094.549 | N12: =ABS(INDEX([5]Sheet1!$1:$1048576,MATCH($B12,[5]Sheet1!$A:$A,0),MATCH(N$6,[5]Sheet1!$1:$1,0))) -> 11932.365 | O12: =ABS(INDEX([5]Sheet1!$1:$1048576,MATCH($B12,[5]Sheet1!$A:$A,0),MATCH(O$6,[5]Sheet1!$1:$1,0))) -> 20516.379 | P12: =ABS(INDEX([5]Sheet1!$1:$1048576,MATCH($B12,[5]Sheet1!$A:$A,0),MATCH(P$6,[5]Sheet1!$1:$1,0))) -> 25535.14 | Q12: =INDEX([5]Sheet1!$1:$1048576,MATCH($B12,[5]Sheet1!$A:$A,0),MATCH(Q$6,[5]Sheet1!$1:$1,0)) -> 3293.081 | R12: =INDEX([5]Sheet1!$1:$1048576,MATCH($B12,[5]Sheet1!$A:$A,0),MATCH(R$6,[5]Sheet1!$1:$1,0)) -> 4110.198 | S12: =INDEX([5]Sheet1!$1:$1048576,MATCH($B12,[5]Sheet1!$A:$A,0),MATCH(S$6,[5]Sheet1!$1:$1,0)) -> 6131.574 | T12: =INDEX([5]Sheet1!$1:$1048576,MATCH($B12,[5]Sheet1!$A:$A,0),MATCH(T$6,[5]Sheet1!$1:$1,0)) -> 7802.256 | U12: =IFERROR((J12/Q12),"-") -> - | V12: =IFERROR((J12/R12),"-") -> - | W12: =IFERROR(J12/M12,"-") -> - | X12: =IFERROR(J12/N12,"-") -> - | Y12: =IFERROR($I12/S12,"-") -> - | Z12: =IFERROR($I12/T12,"-") -> - | AA12: =IFERROR(O12/S12,"-") -> 3.3460216 | AB12: =IFERROR(P12/T12,"-") -> 3.2727893 | AC12: =IFERROR($K12/J12,"") | AD12: =IFERROR($L12/J12,"") | AE12: =IFERROR($Q12/$M12,"-") -> 0.36209393 | AF12: =IFERROR($R12/$N12,"-") -> 0.34445795
A13: =INDEX([5]Sheet1!$1:$1048576,MATCH($B13,[5]Sheet1!$A:$A,0),MATCH(A$6,[5]Sheet1!$1:$1,0)) -> Raizen | B13: RAIZ4 | C13: =INDEX([5]Sheet1!$1:$1048576,MATCH($B13,[5]Sheet1!$A:$A,0),MATCH(C$6,[5]Sheet1!$1:$1,0)) -> Agribusiness | D13: =INDEX([5]Sheet1!$1:$1048576,MATCH($B13,[5]Sheet1!$A:$A,0),MATCH(D$6,[5]Sheet1!$1:$1,0)) -> Leonardo Alencar | E13: =INDEX([5]Sheet1!$1:$1048576,MATCH($B13,[5]Sheet1!$A:$A,0),MATCH(E$6,[5]Sheet1!$1:$1,0)) -> Under Review | F13: =INDEX([5]Sheet1!$1:$1048576,MATCH($B13,[5]Sheet1!$A:$A,0),MATCH(F$6,[5]Sheet1!$1:$1,0)) -> FALSE | G13: =INDEX([5]Sheet1!$1:$1048576,MATCH($B13,[5]Sheet1!$A:$A,0),MATCH(G$6,[5]Sheet1!$1:$1,0)) -> #N/A | H13: =INDEX([5]Sheet1!$1:$1048576,MATCH($B13,[5]Sheet1!$A:$A,0),MATCH(H$6,[5]Sheet1!$1:$1,0)) -> 1.1 | I13: {=IFERROR((_xll.ECONOMATICA($B13,"EV")/1000000) / IF($G13="USD",Aux!$B$1,1),"")} | J13: {=IFERROR((_xll.ECONOMATICA($B13,"MarketCapitaliz")/1000000) / IF($G13="USD",Aux!$B$1,1),"")} | K13: =ABS(INDEX([5]Sheet1!$1:$1048576,MATCH($B13,[5]Sheet1!$A:$A,0),MATCH(K$6,[5]Sheet1!$1:$1,0))) -> 0 | L13: =ABS(INDEX([5]Sheet1!$1:$1048576,MATCH($B13,[5]Sheet1!$A:$A,0),MATCH(L$6,[5]Sheet1!$1:$1,0))) -> 0 | M13: =ABS(INDEX([5]Sheet1!$1:$1048576,MATCH($B13,[5]Sheet1!$A:$A,0),MATCH(M$6,[5]Sheet1!$1:$1,0))) -> 22904.161 | N13: =ABS(INDEX([5]Sheet1!$1:$1048576,MATCH($B13,[5]Sheet1!$A:$A,0),MATCH(N$6,[5]Sheet1!$1:$1,0))) -> 22125.564 | O13: =ABS(INDEX([5]Sheet1!$1:$1048576,MATCH($B13,[5]Sheet1!$A:$A,0),MATCH(O$6,[5]Sheet1!$1:$1,0))) -> 19438.181 | P13: =ABS(INDEX([5]Sheet1!$1:$1048576,MATCH($B13,[5]Sheet1!$A:$A,0),MATCH(P$6,[5]Sheet1!$1:$1,0))) -> 20007.651 | Q13: =INDEX([5]Sheet1!$1:$1048576,MATCH($B13,[5]Sheet1!$A:$A,0),MATCH(Q$6,[5]Sheet1!$1:$1,0)) -> 2952.771 | R13: =INDEX([5]Sheet1!$1:$1048576,MATCH($B13,[5]Sheet1!$A:$A,0),MATCH(R$6,[5]Sheet1!$1:$1,0)) -> 612.061 | S13: =INDEX([5]Sheet1!$1:$1048576,MATCH($B13,[5]Sheet1!$A:$A,0),MATCH(S$6,[5]Sheet1!$1:$1,0)) -> 16739.277 | T13: =INDEX([5]Sheet1!$1:$1048576,MATCH($B13,[5]Sheet1!$A:$A,0),MATCH(T$6,[5]Sheet1!$1:$1,0)) -> 17223.2 | U13: =IFERROR((J13/Q13),"-") -> - | V13: =IFERROR((J13/R13),"-") -> - | W13: =IFERROR(J13/M13,"-") -> - | X13: =IFERROR(J13/N13,"-") -> - | Y13: =IFERROR($I13/S13,"-") -> - | Z13: =IFERROR($I13/T13,"-") -> - | AA13: =IFERROR(O13/S13,"-") -> 1.1612318 | AB13: =IFERROR(P13/T13,"-") -> 1.1616686 | AC13: =IFERROR($K13/J13,"") | AD13: =IFERROR($L13/J13,"") | AE13: =IFERROR($Q13/$M13,"-") -> 0.12891854 | AF13: =IFERROR($R13/$N13,"-") -> 0.027663069
A14: =INDEX([5]Sheet1!$1:$1048576,MATCH($B14,[5]Sheet1!$A:$A,0),MATCH(A$6,[5]Sheet1!$1:$1,0)) -> Gerdau | B14: GGBR4 | C14: =INDEX([5]Sheet1!$1:$1048576,MATCH($B14,[5]Sheet1!$A:$A,0),MATCH(C$6,[5]Sheet1!$1:$1,0)) -> Metals & Mining | D14: =INDEX([5]Sheet1!$1:$1048576,MATCH($B14,[5]Sheet1!$A:$A,0),MATCH(D$6,[5]Sheet1!$1:$1,0)) -> Lucas Laghi | E14: =INDEX([5]Sheet1!$1:$1048576,MATCH($B14,[5]Sheet1!$A:$A,0),MATCH(E$6,[5]Sheet1!$1:$1,0)) -> Buy | F14: =INDEX([5]Sheet1!$1:$1048576,MATCH($B14,[5]Sheet1!$A:$A,0),MATCH(F$6,[5]Sheet1!$1:$1,0)) -> FALSE | G14: =INDEX([5]Sheet1!$1:$1048576,MATCH($B14,[5]Sheet1!$A:$A,0),MATCH(G$6,[5]Sheet1!$1:$1,0)) -> #N/A | H14: =INDEX([5]Sheet1!$1:$1048576,MATCH($B14,[5]Sheet1!$A:$A,0),MATCH(H$6,[5]Sheet1!$1:$1,0)) -> 30 | I14: {=IFERROR((_xll.ECONOMATICA($B14,"EV")/1000000) / IF($G14="USD",Aux!$B$1,1),"")} | J14: {=IFERROR((_xll.ECONOMATICA($B14,"MarketCapitaliz")/1000000) / IF($G14="USD",Aux!$B$1,1),"")} | K14: =ABS(INDEX([5]Sheet1!$1:$1048576,MATCH($B14,[5]Sheet1!$A:$A,0),MATCH(K$6,[5]Sheet1!$1:$1,0))) -> 2683.328 | L14: =ABS(INDEX([5]Sheet1!$1:$1048576,MATCH($B14,[5]Sheet1!$A:$A,0),MATCH(L$6,[5]Sheet1!$1:$1,0))) -> 1656.414 | M14: =ABS(INDEX([5]Sheet1!$1:$1048576,MATCH($B14,[5]Sheet1!$A:$A,0),MATCH(M$6,[5]Sheet1!$1:$1,0))) -> 49058.959 | N14: =ABS(INDEX([5]Sheet1!$1:$1048576,MATCH($B14,[5]Sheet1!$A:$A,0),MATCH(N$6,[5]Sheet1!$1:$1,0))) -> 57948.759 | O14: =ABS(INDEX([5]Sheet1!$1:$1048576,MATCH($B14,[5]Sheet1!$A:$A,0),MATCH(O$6,[5]Sheet1!$1:$1,0))) -> 6812.747 | P14: =ABS(INDEX([5]Sheet1!$1:$1048576,MATCH($B14,[5]Sheet1!$A:$A,0),MATCH(P$6,[5]Sheet1!$1:$1,0))) -> 6640.31 | Q14: =INDEX([5]Sheet1!$1:$1048576,MATCH($B14,[5]Sheet1!$A:$A,0),MATCH(Q$6,[5]Sheet1!$1:$1,0)) -> 7540.72 | R14: =INDEX([5]Sheet1!$1:$1048576,MATCH($B14,[5]Sheet1!$A:$A,0),MATCH(R$6,[5]Sheet1!$1:$1,0)) -> 3689.1731 | S14: =INDEX([5]Sheet1!$1:$1048576,MATCH($B14,[5]Sheet1!$A:$A,0),MATCH(S$6,[5]Sheet1!$1:$1,0)) -> 13503.377 | T14: =INDEX([5]Sheet1!$1:$1048576,MATCH($B14,[5]Sheet1!$A:$A,0),MATCH(T$6,[5]Sheet1!$1:$1,0)) -> 9703.3626 | U14: =IFERROR((J14/Q14),"-") -> - | V14: =IFERROR((J14/R14),"-") -> - | W14: =IFERROR(J14/M14,"-") -> - | X14: =IFERROR(J14/N14,"-") -> - | Y14: =IFERROR($I14/S14,"-") -> - | Z14: =IFERROR($I14/T14,"-") -> - | AA14: =IFERROR(O14/S14,"-") -> 0.50452174 | AB14: =IFERROR(P14/T14,"-") -> 0.68433081 | AC14: =IFERROR($K14/J14,"") | AD14: =IFERROR($L14/J14,"") | AE14: =IFERROR($Q14/$M14,"-") -> 0.1537073 | AF14: =IFERROR($R14/$N14,"-") -> 0.063662677
A15: =INDEX([5]Sheet1!$1:$1048576,MATCH($B15,[5]Sheet1!$A:$A,0),MATCH(A$6,[5]Sheet1!$1:$1,0)) -> Banco do Brasil | B15: BBAS3 | C15: =INDEX([5]Sheet1!$1:$1048576,MATCH($B15,[5]Sheet1!$A:$A,0),MATCH(C$6,[5]Sheet1!$1:$1,0)) -> Banks | D15: =INDEX([5]Sheet1!$1:$1048576,MATCH($B15,[5]Sheet1!$A:$A,0),MATCH(D$6,[5]Sheet1!$1:$1,0)) -> Bernardo Guttmann | E15: =INDEX([5]Sheet1!$1:$1048576,MATCH($B15,[5]Sheet1!$A:$A,0),MATCH(E$6,[5]Sheet1!$1:$1,0)) -> Neutral | F15: =INDEX([5]Sheet1!$1:$1048576,MATCH($B15,[5]Sheet1!$A:$A,0),MATCH(F$6,[5]Sheet1!$1:$1,0)) -> FALSE | G15: =INDEX([5]Sheet1!$1:$1048576,MATCH($B15,[5]Sheet1!$A:$A,0),MATCH(G$6,[5]Sheet1!$1:$1,0)) -> #N/A | H15: =INDEX([5]Sheet1!$1:$1048576,MATCH($B15,[5]Sheet1!$A:$A,0),MATCH(H$6,[5]Sheet1!$1:$1,0)) -> 21 | I15: {=IFERROR((_xll.ECONOMATICA($B15,"EV")/1000000) / IF($G15="USD",Aux!$B$1,1),"")} | J15: {=IFERROR((_xll.ECONOMATICA($B15,"MarketCapitaliz")/1000000) / IF($G15="USD",Aux!$B$1,1),"")} | K15: =ABS(INDEX([5]Sheet1!$1:$1048576,MATCH($B15,[5]Sheet1!$A:$A,0),MATCH(K$6,[5]Sheet1!$1:$1,0))) -> 0 | L15: =ABS(INDEX([5]Sheet1!$1:$1048576,MATCH($B15,[5]Sheet1!$A:$A,0),MATCH(L$6,[5]Sheet1!$1:$1,0))) -> 0 | M15: =ABS(INDEX([5]Sheet1!$1:$1048576,MATCH($B15,[5]Sheet1!$A:$A,0),MATCH(M$6,[5]Sheet1!$1:$1,0))) -> 0 | N15: =ABS(INDEX([5]Sheet1!$1:$1048576,MATCH($B15,[5]Sheet1!$A:$A,0),MATCH(N$6,[5]Sheet1!$1:$1,0))) -> 0 | O15: =ABS(INDEX([5]Sheet1!$1:$1048576,MATCH($B15,[5]Sheet1!$A:$A,0),MATCH(O$6,[5]Sheet1!$1:$1,0))) -> 0 | P15: =ABS(INDEX([5]Sheet1!$1:$1048576,MATCH($B15,[5]Sheet1!$A:$A,0),MATCH(P$6,[5]Sheet1!$1:$1,0))) -> 0 | Q15: =INDEX([5]Sheet1!$1:$1048576,MATCH($B15,[5]Sheet1!$A:$A,0),MATCH(Q$6,[5]Sheet1!$1:$1,0)) -> 0 | R15: =INDEX([5]Sheet1!$1:$1048576,MATCH($B15,[5]Sheet1!$A:$A,0),MATCH(R$6,[5]Sheet1!$1:$1,0)) -> 0 | S15: =INDEX([5]Sheet1!$1:$1048576,MATCH($B15,[5]Sheet1!$A:$A,0),MATCH(S$6,[5]Sheet1!$1:$1,0)) -> 0 | T15: =INDEX([5]Sheet1!$1:$1048576,MATCH($B15,[5]Sheet1!$A:$A,0),MATCH(T$6,[5]Sheet1!$1:$1,0)) -> 0 | U15: =IFERROR((J15/Q15),"-") -> - | V15: =IFERROR((J15/R15),"-") -> - | W15: =IFERROR(J15/M15,"-") -> - | X15: =IFERROR(J15/N15,"-") -> - | Y15: =IFERROR($I15/S15,"-") -> - | Z15: =IFERROR($I15/T15,"-") -> - | AA15: =IFERROR(O15/S15,"-") -> - | AB15: =IFERROR(P15/T15,"-") -> - | AC15: =IFERROR($K15/J15,"") | AD15: =IFERROR($L15/J15,"") | AE15: =IFERROR($Q15/$M15,"-") -> - | AF15: =IFERROR($R15/$N15,"-") -> -
A16: =INDEX([5]Sheet1!$1:$1048576,MATCH($B16,[5]Sheet1!$A:$A,0),MATCH(A$6,[5]Sheet1!$1:$1,0)) -> Trisul | B16: TRIS3 | C16: =INDEX([5]Sheet1!$1:$1048576,MATCH($B16,[5]Sheet1!$A:$A,0),MATCH(C$6,[5]Sheet1!$1:$1,0)) -> Homebuilders | D16: =INDEX([5]Sheet1!$1:$1048576,MATCH($B16,[5]Sheet1!$A:$A,0),MATCH(D$6,[5]Sheet1!$1:$1,0)) -> Ygor Altero | E16: =INDEX([5]Sheet1!$1:$1048576,MATCH($B16,[5]Sheet1!$A:$A,0),MATCH(E$6,[5]Sheet1!$1:$1,0)) -> Neutral | F16: =INDEX([5]Sheet1!$1:$1048576,MATCH($B16,[5]Sheet1!$A:$A,0),MATCH(F$6,[5]Sheet1!$1:$1,0)) -> FALSE | G16: =INDEX([5]Sheet1!$1:$1048576,MATCH($B16,[5]Sheet1!$A:$A,0),MATCH(G$6,[5]Sheet1!$1:$1,0)) -> #N/A | H16: =INDEX([5]Sheet1!$1:$1048576,MATCH($B16,[5]Sheet1!$A:$A,0),MATCH(H$6,[5]Sheet1!$1:$1,0)) -> 6 | I16: {=IFERROR((_xll.ECONOMATICA($B16,"EV")/1000000) / IF($G16="USD",Aux!$B$1,1),"")} | J16: {=IFERROR((_xll.ECONOMATICA($B16,"MarketCapitaliz")/1000000) / IF($G16="USD",Aux!$B$1,1),"")} | K16: =ABS(INDEX([5]Sheet1!$1:$1048576,MATCH($B16,[5]Sheet1!$A:$A,0),MATCH(K$6,[5]Sheet1!$1:$1,0))) -> 25 | L16: =ABS(INDEX([5]Sheet1!$1:$1048576,MATCH($B16,[5]Sheet1!$A:$A,0),MATCH(L$6,[5]Sheet1!$1:$1,0))) -> 36 | M16: =ABS(INDEX([5]Sheet1!$1:$1048576,MATCH($B16,[5]Sheet1!$A:$A,0),MATCH(M$6,[5]Sheet1!$1:$1,0))) -> 1347.166 | N16: =ABS(INDEX([5]Sheet1!$1:$1048576,MATCH($B16,[5]Sheet1!$A:$A,0),MATCH(N$6,[5]Sheet1!$1:$1,0))) -> 1459.011 | O16: =ABS(INDEX([5]Sheet1!$1:$1048576,MATCH($B16,[5]Sheet1!$A:$A,0),MATCH(O$6,[5]Sheet1!$1:$1,0))) -> 678.768 | P16: =ABS(INDEX([5]Sheet1!$1:$1048576,MATCH($B16,[5]Sheet1!$A:$A,0),MATCH(P$6,[5]Sheet1!$1:$1,0))) -> 351.567 | Q16: =INDEX([5]Sheet1!$1:$1048576,MATCH($B16,[5]Sheet1!$A:$A,0),MATCH(Q$6,[5]Sheet1!$1:$1,0)) -> 123.88 | R16: =INDEX([5]Sheet1!$1:$1048576,MATCH($B16,[5]Sheet1!$A:$A,0),MATCH(R$6,[5]Sheet1!$1:$1,0)) -> 181.908 | S16: =INDEX([5]Sheet1!$1:$1048576,MATCH($B16,[5]Sheet1!$A:$A,0),MATCH(S$6,[5]Sheet1!$1:$1,0)) -> 168.087 | T16: =INDEX([5]Sheet1!$1:$1048576,MATCH($B16,[5]Sheet1!$A:$A,0),MATCH(T$6,[5]Sheet1!$1:$1,0)) -> 212.099 | U16: =IFERROR((J16/Q16),"-") -> - | V16: =IFERROR((J16/R16),"-") -> - | W16: =IFERROR(J16/M16,"-") -> - | X16: =IFERROR(J16/N16,"-") -> - | Y16: =IFERROR($I16/S16,"-") -> - | Z16: =IFERROR($I16/T16,"-") -> - | AA16: =IFERROR(O16/S16,"-") -> 4.0381945 | AB16: =IFERROR(P16/T16,"-") -> 1.6575609 | AC16: =IFERROR($K16/J16,"") | AD16: =IFERROR($L16/J16,"") | AE16: =IFERROR($Q16/$M16,"-") -> 0.091956002 | AF16: =IFERROR($R16/$N16,"-") -> 0.12467898
A17: =INDEX([5]Sheet1!$1:$1048576,MATCH($B17,[5]Sheet1!$A:$A,0),MATCH(A$6,[5]Sheet1!$1:$1,0)) -> Melnick | B17: MELK3 | C17: =INDEX([5]Sheet1!$1:$1048576,MATCH($B17,[5]Sheet1!$A:$A,0),MATCH(C$6,[5]Sheet1!$1:$1,0)) -> Homebuilders | D17: =INDEX([5]Sheet1!$1:$1048576,MATCH($B17,[5]Sheet1!$A:$A,0),MATCH(D$6,[5]Sheet1!$1:$1,0)) -> Ygor Altero | E17: =INDEX([5]Sheet1!$1:$1048576,MATCH($B17,[5]Sheet1!$A:$A,0),MATCH(E$6,[5]Sheet1!$1:$1,0)) -> Buy | F17: =INDEX([5]Sheet1!$1:$1048576,MATCH($B17,[5]Sheet1!$A:$A,0),MATCH(F$6,[5]Sheet1!$1:$1,0)) -> FALSE | G17: =INDEX([5]Sheet1!$1:$1048576,MATCH($B17,[5]Sheet1!$A:$A,0),MATCH(G$6,[5]Sheet1!$1:$1,0)) -> #N/A | H17: =INDEX([5]Sheet1!$1:$1048576,MATCH($B17,[5]Sheet1!$A:$A,0),MATCH(H$6,[5]Sheet1!$1:$1,0)) -> 5 | I17: {=IFERROR((_xll.ECONOMATICA($B17,"EV")/1000000) / IF($G17="USD",Aux!$B$1,1),"")} | J17: {=IFERROR((_xll.ECONOMATICA($B17,"MarketCapitaliz")/1000000) / IF($G17="USD",Aux!$B$1,1),"")} | K17: =ABS(INDEX([5]Sheet1!$1:$1048576,MATCH($B17,[5]Sheet1!$A:$A,0),MATCH(K$6,[5]Sheet1!$1:$1,0))) -> 124.58005 | L17: =ABS(INDEX([5]Sheet1!$1:$1048576,MATCH($B17,[5]Sheet1!$A:$A,0),MATCH(L$6,[5]Sheet1!$1:$1,0))) -> 41.412101 | M17: =ABS(INDEX([5]Sheet1!$1:$1048576,MATCH($B17,[5]Sheet1!$A:$A,0),MATCH(M$6,[5]Sheet1!$1:$1,0))) -> 1205.197 | N17: =ABS(INDEX([5]Sheet1!$1:$1048576,MATCH($B17,[5]Sheet1!$A:$A,0),MATCH(N$6,[5]Sheet1!$1:$1,0))) -> 1211.564 | O17: =ABS(INDEX([5]Sheet1!$1:$1048576,MATCH($B17,[5]Sheet1!$A:$A,0),MATCH(O$6,[5]Sheet1!$1:$1,0))) -> 113.916 | P17: =ABS(INDEX([5]Sheet1!$1:$1048576,MATCH($B17,[5]Sheet1!$A:$A,0),MATCH(P$6,[5]Sheet1!$1:$1,0))) -> 102.454 | Q17: =INDEX([5]Sheet1!$1:$1048576,MATCH($B17,[5]Sheet1!$A:$A,0),MATCH(Q$6,[5]Sheet1!$1:$1,0)) -> 103.8855 | R17: =INDEX([5]Sheet1!$1:$1048576,MATCH($B17,[5]Sheet1!$A:$A,0),MATCH(R$6,[5]Sheet1!$1:$1,0)) -> 71.3666 | S17: =INDEX([5]Sheet1!$1:$1048576,MATCH($B17,[5]Sheet1!$A:$A,0),MATCH(S$6,[5]Sheet1!$1:$1,0)) -> 101.283 | T17: =INDEX([5]Sheet1!$1:$1048576,MATCH($B17,[5]Sheet1!$A:$A,0),MATCH(T$6,[5]Sheet1!$1:$1,0)) -> 81.6506 | U17: =IFERROR((J17/Q17),"-") -> - | V17: =IFERROR((J17/R17),"-") -> - | W17: =IFERROR(J17/M17,"-") -> - | X17: =IFERROR(J17/N17,"-") -> - | Y17: =IFERROR($I17/S17,"-") -> - | Z17: =IFERROR($I17/T17,"-") -> - | AA17: =IFERROR(O17/S17,"-") -> 1.1247297 | AB17: =IFERROR(P17/T17,"-") -> 1.2547856 | AC17: =IFERROR($K17/J17,"") | AD17: =IFERROR($L17/J17,"") | AE17: =IFERROR($Q17/$M17,"-") -> 0.086197941 | AF17: =IFERROR($R17/$N17,"-") -> 0.058904523
